BEGIN:VCALENDAR
VERSION:2.0
PRODID:-//Lambspun Fort Collins - ECPv6.13.2.1//NONSGML v1.0//EN
CALSCALE:GREGORIAN
METHOD:PUBLISH
X-WR-CALNAME:Lambspun Fort Collins
X-ORIGINAL-URL:https://www.lambspun.com
X-WR-CALDESC:Events for Lambspun Fort Collins
REFRESH-INTERVAL;VALUE=DURATION:PT1H
X-Robots-Tag:noindex
X-PUBLISHED-TTL:PT1H
BEGIN:VTIMEZONE
TZID:America/Denver
BEGIN:DAYLIGHT
TZOFFSETFROM:-0700
TZOFFSETTO:-0600
TZNAME:MDT
DTSTART:20260308T090000
END:DAYLIGHT
BEGIN:STANDARD
TZOFFSETFROM:-0600
TZOFFSETTO:-0700
TZNAME:MST
DTSTART:20261101T080000
END:STANDARD
END:VTIMEZONE
BEGIN:VEVENT
DTSTART;TZID=America/Denver:20260402T093000
DTEND;TZID=America/Denver:20260402T103000
DTSTAMP:20260421T054543
CREATED:20260214T033224Z
LAST-MODIFIED:20260214T201235Z
UID:10010132-1775122200-1775125800@www.lambspun.com
SUMMARY:Welcome to Weaving - April 2\, 9\, 16
DESCRIPTION:In this 4-week class\, plan a project\, warp a loom\, and weave away! In the last session\, you’ll learn finishing details that will take your project to the next level. The use of one of our looms is included in with registration. Enjoy a 15% discount on yarns for your project\, and a free class series with loom purchase!
URL:https://www.lambspun.com/event/welcome-to-weaving-april-2-9-16/2026-04-02/
LOCATION:Lambspun Fort Collins\, 1101 East Lincoln Avenue\, Fort Collins\, CO\, 80524\, United States
CATEGORIES:Weaving Classes
ATTACH;FMTTYPE=image/jpeg:https://www.lambspun.com/wp-content/uploads/2026/02/welcome-to-weaving-picture-scaled.jpg
ORGANIZER;CN="Lambspun":MAILTO:staff@thrivedevsite.com
END:VEVENT
BEGIN:VEVENT
DTSTART;TZID=America/Denver:20260402T110000
DTEND;TZID=America/Denver:20260402T120000
DTSTAMP:20260421T054543
CREATED:20260214T041847Z
LAST-MODIFIED:20260214T053516Z
UID:10010153-1775127600-1775131200@www.lambspun.com
SUMMARY:Crochet from Scratch - April 2\, 9\, 16
DESCRIPTION:If you have little or no experience with crocheting\, this class will guide you through the basics\, including straight edges\, single crochet\, and variations. Get troubleshooting tips to ensure successful finished results!
URL:https://www.lambspun.com/event/crochet-from-scratch-april-2-9-16/2026-04-02/
LOCATION:Lambspun Fort Collins\, 1101 East Lincoln Avenue\, Fort Collins\, CO\, 80524\, United States
CATEGORIES:Crochet Classes
ATTACH;FMTTYPE=image/jpeg:https://www.lambspun.com/wp-content/uploads/2026/02/Green-crochet-bag-scaled.jpg
ORGANIZER;CN="Lambspun":MAILTO:staff@thrivedevsite.com
END:VEVENT
BEGIN:VEVENT
DTSTART;TZID=America/Denver:20260402T123000
DTEND;TZID=America/Denver:20260402T133000
DTSTAMP:20260421T054543
CREATED:20260214T041052Z
LAST-MODIFIED:20260214T053641Z
UID:10010147-1775133000-1775136600@www.lambspun.com
SUMMARY:Embroider and Embellish - April 2\, 9\, 16
DESCRIPTION:Play with color\, design\, and add a special touch to your projects as you learn to embellish fabric or other materials with needle and thread! Beginner kit is included with registration\, and other threads and accessories are available for purchase.
URL:https://www.lambspun.com/event/embroider-and-embellish-april-2-9-16/2026-04-02/
LOCATION:Lambspun Fort Collins\, 1101 East Lincoln Avenue\, Fort Collins\, CO\, 80524\, United States
CATEGORIES:Embroidery Classes
ATTACH;FMTTYPE=image/jpeg:https://www.lambspun.com/wp-content/uploads/2025/02/14.-Embroider-and-Embellish.jpg
ORGANIZER;CN="Lambspun":MAILTO:staff@thrivedevsite.com
END:VEVENT
BEGIN:VEVENT
DTSTART;TZID=America/Denver:20260402T140000
DTEND;TZID=America/Denver:20260402T150000
DTSTAMP:20260421T054543
CREATED:20260214T051212Z
LAST-MODIFIED:20260216T035624Z
UID:10010185-1775138400-1775142000@www.lambspun.com
SUMMARY:Easy Top-Down Sweaters - April 2\, 9\, 16
DESCRIPTION:Hone your Knitting skills in this project-based class. Top-down\, flat\, or in the round\, choose a pattern suited to your skill level and tackle a new project with confidence! Needles and accessories available for purchase. Enjoy a 15% discount on your yarn choice.
URL:https://www.lambspun.com/event/easy-top-down-sweaters-april-2-9-16/2026-04-02/
LOCATION:Lambspun Fort Collins\, 1101 East Lincoln Avenue\, Fort Collins\, CO\, 80524\, United States
CATEGORIES:Knitting Classes
ATTACH;FMTTYPE=image/jpeg:https://www.lambspun.com/wp-content/uploads/2026/02/Top-down-sweater-scaled.jpg
ORGANIZER;CN="Lambspun":MAILTO:staff@thrivedevsite.com
END:VEVENT
END:VCALENDAR