BEGIN:VCALENDAR
VERSION:2.0
PRODID:-//Lambspun Fort Collins - ECPv6.13.2.1//NONSGML v1.0//EN
CALSCALE:GREGORIAN
METHOD:PUBLISH
X-ORIGINAL-URL:https://www.lambspun.com
X-WR-CALDESC:Events for Lambspun Fort Collins
REFRESH-INTERVAL;VALUE=DURATION:PT1H
X-Robots-Tag:noindex
X-PUBLISHED-TTL:PT1H
BEGIN:VTIMEZONE
TZID:America/Denver
BEGIN:DAYLIGHT
TZOFFSETFROM:-0700
TZOFFSETTO:-0600
TZNAME:MDT
DTSTART:20260308T090000
END:DAYLIGHT
BEGIN:STANDARD
TZOFFSETFROM:-0600
TZOFFSETTO:-0700
TZNAME:MST
DTSTART:20261101T080000
END:STANDARD
END:VTIMEZONE
BEGIN:VEVENT
DTSTART;TZID=America/Denver:20260521T123000
DTEND;TZID=America/Denver:20260521T140000
DTSTAMP:20260421T084032
CREATED:20260216T064816Z
LAST-MODIFIED:20260219T083749Z
UID:10010223-1779366600-1779372000@www.lambspun.com
SUMMARY:Design Your Own Colorwork - May 7\, 14\, 21\, 28
DESCRIPTION:Make any pattern your own! In this 4-session class\, start with a pattern that has no colorwork on it\, and learn how to choose aa design and graph it out to fit your project. Work with stranded or mosaic colorwork techniques to complete your project. prior experience is helpful but not required. \nSkill level: intermediate beginner \n 
URL:https://www.lambspun.com/event/design-your-own-colorwork-may-7-14-21-28/2026-05-21/
LOCATION:Lambspun Fort Collins\, 1101 East Lincoln Avenue\, Fort Collins\, CO\, 80524\, United States
CATEGORIES:Knitting Classes
ATTACH;FMTTYPE=image/jpeg:https://www.lambspun.com/wp-content/uploads/2026/02/Isabels-stocking.jpg
ORGANIZER;CN="Lambspun":MAILTO:staff@thrivedevsite.com
END:VEVENT
BEGIN:VEVENT
DTSTART;TZID=America/Denver:20260521T140000
DTEND;TZID=America/Denver:20260521T150000
DTSTAMP:20260421T084032
CREATED:20260216T052637Z
LAST-MODIFIED:20260216T052637Z
UID:10010220-1779372000-1779375600@www.lambspun.com
SUMMARY:Cozy Socks - May 7\, 14\, 21
DESCRIPTION:Handcrafted\, cozy and warm – wrap your feet in artistic yarns\, both practical and plush! Patterns included.
URL:https://www.lambspun.com/event/cozy-socks-may-7-14-21/2026-05-21/
LOCATION:Lambspun Fort Collins\, 1101 East Lincoln Avenue\, Fort Collins\, CO\, 80524\, United States
CATEGORIES:Knitting Classes
ATTACH;FMTTYPE=image/jpeg:https://www.lambspun.com/wp-content/uploads/2026/02/2-cozy-socks-scaled.jpg
ORGANIZER;CN="Lambspun":MAILTO:staff@thrivedevsite.com
END:VEVENT
BEGIN:VEVENT
DTSTART;TZID=America/Denver:20260521T150000
DTEND;TZID=America/Denver:20260521T160000
DTSTAMP:20260421T084032
CREATED:20260216T052311Z
LAST-MODIFIED:20260216T052311Z
UID:10010217-1779375600-1779379200@www.lambspun.com
SUMMARY:Intro to Colorwork: Hats - May 7\, 14\, 21
DESCRIPTION:Begin your colorwork journey or expand your skills with a project from Knitting the USA\, Knitting the National Parks\, or Knitting California. These popular hats are inspired by some of the most beloved landscapes of the US. You’ll get step-by-step guidance to create a hat you love!
URL:https://www.lambspun.com/event/intro-to-colorwork-hats-may-7-14-21/2026-05-21/
LOCATION:Lambspun Fort Collins\, 1101 East Lincoln Avenue\, Fort Collins\, CO\, 80524\, United States
CATEGORIES:Knitting Classes
ATTACH;FMTTYPE=image/jpeg:https://www.lambspun.com/wp-content/uploads/2026/02/knitted-hats--scaled.jpg
ORGANIZER;CN="Lambspun":MAILTO:staff@thrivedevsite.com
END:VEVENT
END:VCALENDAR