BEGIN:VCALENDAR
VERSION:2.0
PRODID:-//Lambspun Fort Collins - ECPv6.13.2.1//NONSGML v1.0//EN
CALSCALE:GREGORIAN
METHOD:PUBLISH
X-ORIGINAL-URL:https://www.lambspun.com
X-WR-CALDESC:Events for Lambspun Fort Collins
REFRESH-INTERVAL;VALUE=DURATION:PT1H
X-Robots-Tag:noindex
X-PUBLISHED-TTL:PT1H
BEGIN:VTIMEZONE
TZID:America/Denver
BEGIN:DAYLIGHT
TZOFFSETFROM:-0700
TZOFFSETTO:-0600
TZNAME:MDT
DTSTART:20260308T090000
END:DAYLIGHT
BEGIN:STANDARD
TZOFFSETFROM:-0600
TZOFFSETTO:-0700
TZNAME:MST
DTSTART:20261101T080000
END:STANDARD
END:VTIMEZONE
BEGIN:VEVENT
DTSTART;TZID=America/Denver:20260702T123000
DTEND;TZID=America/Denver:20260702T133000
DTSTAMP:20260421T102505
CREATED:20260412T190510Z
LAST-MODIFIED:20260412T190612Z
UID:10010437-1782995400-1782999000@www.lambspun.com
SUMMARY:Knitted Animals and Cuddly Toys - July 2\, 9\, 16
DESCRIPTION:Handcrafted\, cozy and warm – wrap your feet in artistic yarns\, both practical and plush! Patterns included. \nLearn to stitch on the wild side! We have a menagerie of books and patterns for your skill level. If you can knit and purl\, this class is for you! \nSkill level: intermediate to advanced
URL:https://www.lambspun.com/event/knitted-animals-and-cuddly-toys-july-2-9-16/2026-07-02/
LOCATION:Lambspun Fort Collins\, 1101 East Lincoln Avenue\, Fort Collins\, CO\, 80524\, United States
CATEGORIES:Knitting Classes
ATTACH;FMTTYPE=image/jpeg:https://www.lambspun.com/wp-content/uploads/2025/07/unnamed-6.jpg
ORGANIZER;CN="Lambspun":MAILTO:staff@thrivedevsite.com
END:VEVENT
BEGIN:VEVENT
DTSTART;TZID=America/Denver:20260702T140000
DTEND;TZID=America/Denver:20260702T150000
DTSTAMP:20260421T102505
CREATED:20260412T184409Z
LAST-MODIFIED:20260412T184553Z
UID:10010427-1783000800-1783004400@www.lambspun.com
SUMMARY:Intro to Colorwork: Hats - July 2\, 9\, 16
DESCRIPTION:Begin your colorwork journey or expand your skills with a project from Knitting the USA\, Knitting the National Parks\, or Knitting California. These popular hats are inspired by some of the most beloved landscapes of the US. You’ll get step-by-step guidance to create a hat you love! \nEnjoy a 15% discount on yarns for the duration of the class. book and and materials not included.
URL:https://www.lambspun.com/event/intro-to-colorwork-hats-july-2-9-16/
LOCATION:Lambspun Fort Collins\, 1101 East Lincoln Avenue\, Fort Collins\, CO\, 80524\, United States
CATEGORIES:Knitting Classes
ATTACH;FMTTYPE=image/jpeg:https://www.lambspun.com/wp-content/uploads/2026/02/knitted-hats--scaled.jpg
ORGANIZER;CN="Lambspun":MAILTO:staff@thrivedevsite.com
END:VEVENT
END:VCALENDAR