BEGIN:VCALENDAR
VERSION:2.0
PRODID:-//Lambspun Fort Collins - ECPv6.13.2.1//NONSGML v1.0//EN
CALSCALE:GREGORIAN
METHOD:PUBLISH
X-WR-CALNAME:Lambspun Fort Collins
X-ORIGINAL-URL:https://www.lambspun.com
X-WR-CALDESC:Events for Lambspun Fort Collins
REFRESH-INTERVAL;VALUE=DURATION:PT1H
X-Robots-Tag:noindex
X-PUBLISHED-TTL:PT1H
BEGIN:VTIMEZONE
TZID:America/Denver
BEGIN:DAYLIGHT
TZOFFSETFROM:-0700
TZOFFSETTO:-0600
TZNAME:MDT
DTSTART:20260308T090000
END:DAYLIGHT
BEGIN:STANDARD
TZOFFSETFROM:-0600
TZOFFSETTO:-0700
TZNAME:MST
DTSTART:20261101T080000
END:STANDARD
END:VTIMEZONE
BEGIN:VEVENT
DTSTART;TZID=America/Denver:20260616T093000
DTEND;TZID=America/Denver:20260616T103000
DTSTAMP:20260415T222014
CREATED:20260219T083955Z
LAST-MODIFIED:20260219T111246Z
UID:10010284-1781602200-1781605800@www.lambspun.com
SUMMARY:Design Your Own Colorwork - June 2\, 9\, 16\, 23
DESCRIPTION:Make any pattern your own! In this 4-session class\, start with a pattern that has no colorwork on it\, and learn how to choose aa design and graph it out to fit your project. Work with stranded or mosaic colorwork techniques to complete your project. prior experience is helpful but not required. \nSkill level: intermediate beginner \n 
URL:https://www.lambspun.com/event/design-your-own-colorwork-june-2-9-16-23/2026-06-16/
LOCATION:Lambspun Fort Collins\, 1101 East Lincoln Avenue\, Fort Collins\, CO\, 80524\, United States
CATEGORIES:Knitting Classes
ATTACH;FMTTYPE=image/jpeg:https://www.lambspun.com/wp-content/uploads/2026/02/Isabels-stocking.jpg
ORGANIZER;CN="Lambspun":MAILTO:staff@thrivedevsite.com
END:VEVENT
BEGIN:VEVENT
DTSTART;TZID=America/Denver:20260616T123000
DTEND;TZID=America/Denver:20260616T133000
DTSTAMP:20260415T222014
CREATED:20260219T080951Z
LAST-MODIFIED:20260219T080951Z
UID:10010271-1781613000-1781616600@www.lambspun.com
SUMMARY:Cast On! Learn to Knit - June 2\, 9\, 16
DESCRIPTION:Learn cast on\, knit stitch\, and cast off as you make your very own scarf or mittens. Custom teaching for every ability\, ages 7+. First yarns and needles provided!
URL:https://www.lambspun.com/event/cast-on-learn-to-knit-june-2-9-16/2026-06-16/
LOCATION:Lambspun Fort Collins\, 1101 East Lincoln Avenue\, Fort Collins\, CO\, 80524\, United States
CATEGORIES:Knitting Classes
ATTACH;FMTTYPE=image/jpeg:https://www.lambspun.com/wp-content/uploads/2025/02/01.-Cast-On-Learn-to-Knit-scaled.jpeg
ORGANIZER;CN="Lambspun":MAILTO:staff@thrivedevsite.com
END:VEVENT
BEGIN:VEVENT
DTSTART;TZID=America/Denver:20260616T140000
DTEND;TZID=America/Denver:20260616T150000
DTSTAMP:20260415T222014
CREATED:20260219T084552Z
LAST-MODIFIED:20260219T084552Z
UID:10010288-1781618400-1781622000@www.lambspun.com
SUMMARY:Mosaic Colorwork Knitting - June 2\, 9\, 16
DESCRIPTION:Easy colorwork with mosaic slip-stitch knitting. These fast techniques give impressive results! Select a complimentary pattern with the guidance of our expert instructors. If you can knit and purl\, you are ready for a new knitting experience!
URL:https://www.lambspun.com/event/mosaic-colorwork-knitting-june-2-9-16/2026-06-16/
LOCATION:Lambspun Fort Collins\, 1101 East Lincoln Avenue\, Fort Collins\, CO\, 80524\, United States
CATEGORIES:Knitting Classes
ATTACH;FMTTYPE=image/png:https://www.lambspun.com/wp-content/uploads/2025/08/Screenshot-2025-08-13-at-11-27-46-Oct-2025-to-Mar-2026-class-schedule-final-2-Update-Oct-2025-to-Mar-2026-class-schedule-final-2-Update-1.pdf.png
ORGANIZER;CN="Lambspun":MAILTO:staff@thrivedevsite.com
END:VEVENT
BEGIN:VEVENT
DTSTART;TZID=America/Denver:20260616T150000
DTEND;TZID=America/Denver:20260616T160000
DTSTAMP:20260415T222014
CREATED:20260219T081953Z
LAST-MODIFIED:20260219T081953Z
UID:10010278-1781622000-1781625600@www.lambspun.com
SUMMARY:Easy Top-Down Sweaters - June 2\, 9\, 16
DESCRIPTION:Hone your knitting skills in this project-based class. Top-down\, flat\, or in the. round\, choose a pattern suited to your skill level and tackle a new project with confidence! Needles accessories available for purchase. enjoy a 15% discount on your yarn choice.
URL:https://www.lambspun.com/event/easy-top-down-sweaters-june-2-9-16/2026-06-16/
LOCATION:Lambspun Fort Collins\, 1101 East Lincoln Avenue\, Fort Collins\, CO\, 80524\, United States
CATEGORIES:Knitting Classes
ATTACH;FMTTYPE=image/jpeg:https://www.lambspun.com/wp-content/uploads/2026/02/Top-down-sweater-scaled.jpg
ORGANIZER;CN="Lambspun":MAILTO:staff@thrivedevsite.com
END:VEVENT
BEGIN:VEVENT
DTSTART;TZID=America/Denver:20260618T093000
DTEND;TZID=America/Denver:20260618T103000
DTSTAMP:20260415T222014
CREATED:20260219T081249Z
LAST-MODIFIED:20260219T081249Z
UID:10010272-1781775000-1781778600@www.lambspun.com
SUMMARY:Cast On! Learn to Knit - June 4\, 11\, 18
DESCRIPTION:Learn cast on\, knit stitch\, and cast off as you make your very own scarf or mittens. Custom teaching for every ability\, ages 7+. First yarns and needles provided!
URL:https://www.lambspun.com/event/cast-on-learn-to-knit-june-4-11-18/
LOCATION:Lambspun Fort Collins\, 1101 East Lincoln Avenue\, Fort Collins\, CO\, 80524\, United States
CATEGORIES:Knitting Classes
ATTACH;FMTTYPE=image/jpeg:https://www.lambspun.com/wp-content/uploads/2025/02/01.-Cast-On-Learn-to-Knit-scaled.jpeg
ORGANIZER;CN="Lambspun":MAILTO:staff@thrivedevsite.com
END:VEVENT
BEGIN:VEVENT
DTSTART;TZID=America/Denver:20260618T123000
DTEND;TZID=America/Denver:20260618T133000
DTSTAMP:20260415T222014
CREATED:20260219T085101Z
LAST-MODIFIED:20260308T064814Z
UID:10010291-1781785800-1781789400@www.lambspun.com
SUMMARY:Intro to Colorwork: Mittens June - 4\, 11\, 18
DESCRIPTION:Prep for cozy season while you up your knitting game! Learn colorwork as you knit a pair of mittens. Knowledge of cast on\, knit\, purl and cast off are helpful\, but no prior experience with mittens required. \nPatterns included
URL:https://www.lambspun.com/event/intro-to-colorwork-mittens-june-4-11-18/2026-06-18/
LOCATION:Lambspun Fort Collins\, 1101 East Lincoln Avenue\, Fort Collins\, CO\, 80524\, United States
CATEGORIES:Knitting Classes
ATTACH;FMTTYPE=image/jpeg:https://www.lambspun.com/wp-content/uploads/2026/02/Colorwork-mittens--scaled.jpg
ORGANIZER;CN="Lambspun":MAILTO:staff@thrivedevsite.com
END:VEVENT
BEGIN:VEVENT
DTSTART;TZID=America/Denver:20260618T140000
DTEND;TZID=America/Denver:20260618T150000
DTSTAMP:20260415T222014
CREATED:20260219T083500Z
LAST-MODIFIED:20260219T083500Z
UID:10010281-1781791200-1781794800@www.lambspun.com
SUMMARY:Cozy Socks - June 4\, 11\, 18
DESCRIPTION:Handcrafted\, cozy and warm – wrap your feet in artistic yarns\, both practical and plush! Patterns included.
URL:https://www.lambspun.com/event/cozy-socks-june-4-11-18/2026-06-18/
LOCATION:Lambspun Fort Collins\, 1101 East Lincoln Avenue\, Fort Collins\, CO\, 80524\, United States
CATEGORIES:Knitting Classes
ATTACH;FMTTYPE=image/jpeg:https://www.lambspun.com/wp-content/uploads/2026/02/2-cozy-socks-scaled.jpg
ORGANIZER;CN="Lambspun":MAILTO:staff@thrivedevsite.com
END:VEVENT
BEGIN:VEVENT
DTSTART;TZID=America/Denver:20260620T140000
DTEND;TZID=America/Denver:20260620T150000
DTSTAMP:20260415T222014
CREATED:20260219T081605Z
LAST-MODIFIED:20260219T081605Z
UID:10010275-1781964000-1781967600@www.lambspun.com
SUMMARY:Cast On! Learn to knit - June 6\, 13\, 20
DESCRIPTION:Learn cast on\, knit stitch\, and cast off as you make your very own scarf or mittens. Custom teaching for every ability\, ages 7+. First yarns and needles provided!
URL:https://www.lambspun.com/event/cast-on-learn-to-knit-june-6-13-20/2026-06-20/
LOCATION:Lambspun Fort Collins\, 1101 East Lincoln Avenue\, Fort Collins\, CO\, 80524\, United States
CATEGORIES:Knitting Classes
ATTACH;FMTTYPE=image/jpeg:https://www.lambspun.com/wp-content/uploads/2025/02/01.-Cast-On-Learn-to-Knit-scaled.jpeg
ORGANIZER;CN="Lambspun":MAILTO:staff@thrivedevsite.com
END:VEVENT
BEGIN:VEVENT
DTSTART;TZID=America/Denver:20260620T150000
DTEND;TZID=America/Denver:20260620T170000
DTSTAMP:20260415T222014
CREATED:20260219T091953Z
LAST-MODIFIED:20260219T092118Z
UID:10010304-1781967600-1781974800@www.lambspun.com
SUMMARY:Novelty Spinning - June 6\, 13\, 20
DESCRIPTION:
URL:https://www.lambspun.com/event/novelty-spinning-june-6-13-20/2026-06-20/
LOCATION:Lambspun Fort Collins\, 1101 East Lincoln Avenue\, Fort Collins\, CO\, 80524\, United States
CATEGORIES:Knitting Classes
ATTACH;FMTTYPE=image/jpeg:https://www.lambspun.com/wp-content/uploads/2025/01/IMG_4901.jpeg
ORGANIZER;CN="Lambspun":MAILTO:staff@thrivedevsite.com
END:VEVENT
BEGIN:VEVENT
DTSTART;TZID=America/Denver:20260621T150000
DTEND;TZID=America/Denver:20260621T160000
DTSTAMP:20260415T222014
CREATED:20260412T183205Z
LAST-MODIFIED:20260412T183245Z
UID:10010420-1782054000-1782057600@www.lambspun.com
SUMMARY:Easy Top-Down Sweaters - July 2\, 9\, 16
DESCRIPTION:Hone your Knitting skills in this project-based class. Top-down\, flat\, or in the round\, choose a pattern suited to your skill level and tackle a new project with confidence! Needles and accessories available for purchase. Enjoy a 15% discount on your yarn choice. \nWhat to bring: you only need to bring yourself! Unless you already have materials you wish to use (yarn\, needles\, pattern).
URL:https://www.lambspun.com/event/easy-top-down-sweaters-july-2-9-16/2026-06-21/
LOCATION:Lambspun Fort Collins\, 1101 East Lincoln Avenue\, Fort Collins\, CO\, 80524\, United States
CATEGORIES:Knitting Classes
ATTACH;FMTTYPE=image/jpeg:https://www.lambspun.com/wp-content/uploads/2026/02/Top-down-sweater-scaled.jpg
ORGANIZER;CN="Lambspun":MAILTO:staff@thrivedevsite.com
END:VEVENT
BEGIN:VEVENT
DTSTART;TZID=America/Denver:20260623T093000
DTEND;TZID=America/Denver:20260623T103000
DTSTAMP:20260415T222014
CREATED:20260219T083955Z
LAST-MODIFIED:20260219T111246Z
UID:10010285-1782207000-1782210600@www.lambspun.com
SUMMARY:Design Your Own Colorwork - June 2\, 9\, 16\, 23
DESCRIPTION:Make any pattern your own! In this 4-session class\, start with a pattern that has no colorwork on it\, and learn how to choose aa design and graph it out to fit your project. Work with stranded or mosaic colorwork techniques to complete your project. prior experience is helpful but not required. \nSkill level: intermediate beginner \n 
URL:https://www.lambspun.com/event/design-your-own-colorwork-june-2-9-16-23/2026-06-23/
LOCATION:Lambspun Fort Collins\, 1101 East Lincoln Avenue\, Fort Collins\, CO\, 80524\, United States
CATEGORIES:Knitting Classes
ATTACH;FMTTYPE=image/jpeg:https://www.lambspun.com/wp-content/uploads/2026/02/Isabels-stocking.jpg
ORGANIZER;CN="Lambspun":MAILTO:staff@thrivedevsite.com
END:VEVENT
BEGIN:VEVENT
DTSTART;TZID=America/Denver:20260628T150000
DTEND;TZID=America/Denver:20260628T160000
DTSTAMP:20260415T222014
CREATED:20260412T183205Z
LAST-MODIFIED:20260412T183245Z
UID:10010421-1782658800-1782662400@www.lambspun.com
SUMMARY:Easy Top-Down Sweaters - July 2\, 9\, 16
DESCRIPTION:Hone your Knitting skills in this project-based class. Top-down\, flat\, or in the round\, choose a pattern suited to your skill level and tackle a new project with confidence! Needles and accessories available for purchase. Enjoy a 15% discount on your yarn choice. \nWhat to bring: you only need to bring yourself! Unless you already have materials you wish to use (yarn\, needles\, pattern).
URL:https://www.lambspun.com/event/easy-top-down-sweaters-july-2-9-16/2026-06-28/
LOCATION:Lambspun Fort Collins\, 1101 East Lincoln Avenue\, Fort Collins\, CO\, 80524\, United States
CATEGORIES:Knitting Classes
ATTACH;FMTTYPE=image/jpeg:https://www.lambspun.com/wp-content/uploads/2026/02/Top-down-sweater-scaled.jpg
ORGANIZER;CN="Lambspun":MAILTO:staff@thrivedevsite.com
END:VEVENT
BEGIN:VEVENT
DTSTART;TZID=America/Denver:20260701T123000
DTEND;TZID=America/Denver:20260701T133000
DTSTAMP:20260415T222014
CREATED:20260412T175513Z
LAST-MODIFIED:20260412T175601Z
UID:10010392-1782909000-1782912600@www.lambspun.com
SUMMARY:Cast On! Learn to knit - April 1\, 8\, 15
DESCRIPTION:Learn cast on\, knit stitch\, and cast off to open the create doors to designing winter warmers\, scarves\, blankets\, and hats. Custom teaching for every ability\, ages 7+. First yarns and needles provided!
URL:https://www.lambspun.com/event/cast-on-learn-to-knit-april-1-8-15/2026-07-01/
LOCATION:Lambspun Fort Collins\, 1101 East Lincoln Avenue\, Fort Collins\, CO\, 80524\, United States
CATEGORIES:Knitting Classes
ATTACH;FMTTYPE=image/jpeg:https://www.lambspun.com/wp-content/uploads/2025/02/01.-Cast-On-Learn-to-Knit-scaled.jpeg
ORGANIZER;CN="Lambspun":MAILTO:staff@thrivedevsite.com
END:VEVENT
BEGIN:VEVENT
DTSTART;TZID=America/Denver:20260702T123000
DTEND;TZID=America/Denver:20260702T133000
DTSTAMP:20260415T222014
CREATED:20260412T190510Z
LAST-MODIFIED:20260412T190612Z
UID:10010437-1782995400-1782999000@www.lambspun.com
SUMMARY:Knitted Animals and Cuddly Toys - July 2\, 9\, 16
DESCRIPTION:Handcrafted\, cozy and warm – wrap your feet in artistic yarns\, both practical and plush! Patterns included. \nLearn to stitch on the wild side! We have a menagerie of books and patterns for your skill level. If you can knit and purl\, this class is for you! \nSkill level: intermediate to advanced
URL:https://www.lambspun.com/event/knitted-animals-and-cuddly-toys-july-2-9-16/2026-07-02/
LOCATION:Lambspun Fort Collins\, 1101 East Lincoln Avenue\, Fort Collins\, CO\, 80524\, United States
CATEGORIES:Knitting Classes
ATTACH;FMTTYPE=image/jpeg:https://www.lambspun.com/wp-content/uploads/2025/07/unnamed-6.jpg
ORGANIZER;CN="Lambspun":MAILTO:staff@thrivedevsite.com
END:VEVENT
BEGIN:VEVENT
DTSTART;TZID=America/Denver:20260702T140000
DTEND;TZID=America/Denver:20260702T150000
DTSTAMP:20260415T222014
CREATED:20260412T184409Z
LAST-MODIFIED:20260412T184553Z
UID:10010427-1783000800-1783004400@www.lambspun.com
SUMMARY:Intro to Colorwork: Hats - July 2\, 9\, 16
DESCRIPTION:Begin your colorwork journey or expand your skills with a project from Knitting the USA\, Knitting the National Parks\, or Knitting California. These popular hats are inspired by some of the most beloved landscapes of the US. You’ll get step-by-step guidance to create a hat you love! \nEnjoy a 15% discount on yarns for the duration of the class. book and and materials not included.
URL:https://www.lambspun.com/event/intro-to-colorwork-hats-july-2-9-16/
LOCATION:Lambspun Fort Collins\, 1101 East Lincoln Avenue\, Fort Collins\, CO\, 80524\, United States
CATEGORIES:Knitting Classes
ATTACH;FMTTYPE=image/jpeg:https://www.lambspun.com/wp-content/uploads/2026/02/knitted-hats--scaled.jpg
ORGANIZER;CN="Lambspun":MAILTO:staff@thrivedevsite.com
END:VEVENT
BEGIN:VEVENT
DTSTART;TZID=America/Denver:20260705T150000
DTEND;TZID=America/Denver:20260705T160000
DTSTAMP:20260415T222014
CREATED:20260412T183205Z
LAST-MODIFIED:20260412T183245Z
UID:10010422-1783263600-1783267200@www.lambspun.com
SUMMARY:Easy Top-Down Sweaters - July 2\, 9\, 16
DESCRIPTION:Hone your Knitting skills in this project-based class. Top-down\, flat\, or in the round\, choose a pattern suited to your skill level and tackle a new project with confidence! Needles and accessories available for purchase. Enjoy a 15% discount on your yarn choice. \nWhat to bring: you only need to bring yourself! Unless you already have materials you wish to use (yarn\, needles\, pattern).
URL:https://www.lambspun.com/event/easy-top-down-sweaters-july-2-9-16/2026-07-05/
LOCATION:Lambspun Fort Collins\, 1101 East Lincoln Avenue\, Fort Collins\, CO\, 80524\, United States
CATEGORIES:Knitting Classes
ATTACH;FMTTYPE=image/jpeg:https://www.lambspun.com/wp-content/uploads/2026/02/Top-down-sweater-scaled.jpg
ORGANIZER;CN="Lambspun":MAILTO:staff@thrivedevsite.com
END:VEVENT
BEGIN:VEVENT
DTSTART;TZID=America/Denver:20260707T093000
DTEND;TZID=America/Denver:20260707T103000
DTSTAMP:20260415T222014
CREATED:20260412T180356Z
LAST-MODIFIED:20260412T180450Z
UID:10010398-1783416600-1783420200@www.lambspun.com
SUMMARY:Cast On! Learn to knit - April 1\, 8\, 15
DESCRIPTION:Learn cast on\, knit stitch\, and cast off to open the create doors to designing winter warmers\, scarves\, blankets\, and hats. Custom teaching for every ability\, ages 7+. First yarns and needles provided!
URL:https://www.lambspun.com/event/cast-on-learn-to-knit-april-1-8-15-2/2026-07-07/
LOCATION:Lambspun Fort Collins\, 1101 East Lincoln Avenue\, Fort Collins\, CO\, 80524\, United States
CATEGORIES:Knitting Classes
ATTACH;FMTTYPE=image/jpeg:https://www.lambspun.com/wp-content/uploads/2025/02/01.-Cast-On-Learn-to-Knit-scaled.jpeg
ORGANIZER;CN="Lambspun":MAILTO:staff@thrivedevsite.com
END:VEVENT
BEGIN:VEVENT
DTSTART;TZID=America/Denver:20260707T150000
DTEND;TZID=America/Denver:20260707T160000
DTSTAMP:20260415T222014
CREATED:20260412T180012Z
LAST-MODIFIED:20260412T180047Z
UID:10010395-1783436400-1783440000@www.lambspun.com
SUMMARY:Cast On! Learn to knit - July 11\, 18\, 25
DESCRIPTION:Learn cast on\, knit stitch\, and cast off to open the create doors to designing winter warmers\, scarves\, blankets\, and hats. Custom teaching for every ability\, ages 7+. First yarns and needles provided!
URL:https://www.lambspun.com/event/cast-on-learn-to-knit-july-11-18-25/2026-07-07/
LOCATION:Lambspun Fort Collins\, 1101 East Lincoln Avenue\, Fort Collins\, CO\, 80524\, United States
CATEGORIES:Knitting Classes
ATTACH;FMTTYPE=image/jpeg:https://www.lambspun.com/wp-content/uploads/2025/02/01.-Cast-On-Learn-to-Knit-scaled.jpeg
ORGANIZER;CN="Lambspun":MAILTO:staff@thrivedevsite.com
END:VEVENT
BEGIN:VEVENT
DTSTART;TZID=America/Denver:20260707T150000
DTEND;TZID=America/Denver:20260707T160000
DTSTAMP:20260415T222014
CREATED:20260412T185219Z
LAST-MODIFIED:20260412T185438Z
UID:10010431-1783436400-1783440000@www.lambspun.com
SUMMARY:Cozy Socks - July 7\, 14\, 21
DESCRIPTION:Handcrafted\, cozy and warm – wrap your feet in artistic yarns\, both practical and plush! Patterns included.
URL:https://www.lambspun.com/event/cozy-socks-july-7-14-21/2026-07-07/
LOCATION:Lambspun Fort Collins\, 1101 East Lincoln Avenue\, Fort Collins\, CO\, 80524\, United States
CATEGORIES:Knitting Classes
ATTACH;FMTTYPE=image/jpeg:https://www.lambspun.com/wp-content/uploads/2026/02/2-cozy-socks-scaled.jpg
ORGANIZER;CN="Lambspun":MAILTO:staff@thrivedevsite.com
END:VEVENT
BEGIN:VEVENT
DTSTART;TZID=America/Denver:20260708T123000
DTEND;TZID=America/Denver:20260708T133000
DTSTAMP:20260415T222014
CREATED:20260412T175513Z
LAST-MODIFIED:20260412T175601Z
UID:10010393-1783513800-1783517400@www.lambspun.com
SUMMARY:Cast On! Learn to knit - April 1\, 8\, 15
DESCRIPTION:Learn cast on\, knit stitch\, and cast off to open the create doors to designing winter warmers\, scarves\, blankets\, and hats. Custom teaching for every ability\, ages 7+. First yarns and needles provided!
URL:https://www.lambspun.com/event/cast-on-learn-to-knit-april-1-8-15/2026-07-08/
LOCATION:Lambspun Fort Collins\, 1101 East Lincoln Avenue\, Fort Collins\, CO\, 80524\, United States
CATEGORIES:Knitting Classes
ATTACH;FMTTYPE=image/jpeg:https://www.lambspun.com/wp-content/uploads/2025/02/01.-Cast-On-Learn-to-Knit-scaled.jpeg
ORGANIZER;CN="Lambspun":MAILTO:staff@thrivedevsite.com
END:VEVENT
BEGIN:VEVENT
DTSTART;TZID=America/Denver:20260709T123000
DTEND;TZID=America/Denver:20260709T133000
DTSTAMP:20260415T222014
CREATED:20260412T190510Z
LAST-MODIFIED:20260412T190612Z
UID:10010438-1783600200-1783603800@www.lambspun.com
SUMMARY:Knitted Animals and Cuddly Toys - July 2\, 9\, 16
DESCRIPTION:Handcrafted\, cozy and warm – wrap your feet in artistic yarns\, both practical and plush! Patterns included. \nLearn to stitch on the wild side! We have a menagerie of books and patterns for your skill level. If you can knit and purl\, this class is for you! \nSkill level: intermediate to advanced
URL:https://www.lambspun.com/event/knitted-animals-and-cuddly-toys-july-2-9-16/2026-07-09/
LOCATION:Lambspun Fort Collins\, 1101 East Lincoln Avenue\, Fort Collins\, CO\, 80524\, United States
CATEGORIES:Knitting Classes
ATTACH;FMTTYPE=image/jpeg:https://www.lambspun.com/wp-content/uploads/2025/07/unnamed-6.jpg
ORGANIZER;CN="Lambspun":MAILTO:staff@thrivedevsite.com
END:VEVENT
BEGIN:VEVENT
DTSTART;TZID=America/Denver:20260712T150000
DTEND;TZID=America/Denver:20260712T160000
DTSTAMP:20260415T222014
CREATED:20260412T183205Z
LAST-MODIFIED:20260412T183245Z
UID:10010423-1783868400-1783872000@www.lambspun.com
SUMMARY:Easy Top-Down Sweaters - July 2\, 9\, 16
DESCRIPTION:Hone your Knitting skills in this project-based class. Top-down\, flat\, or in the round\, choose a pattern suited to your skill level and tackle a new project with confidence! Needles and accessories available for purchase. Enjoy a 15% discount on your yarn choice. \nWhat to bring: you only need to bring yourself! Unless you already have materials you wish to use (yarn\, needles\, pattern).
URL:https://www.lambspun.com/event/easy-top-down-sweaters-july-2-9-16/2026-07-12/
LOCATION:Lambspun Fort Collins\, 1101 East Lincoln Avenue\, Fort Collins\, CO\, 80524\, United States
CATEGORIES:Knitting Classes
ATTACH;FMTTYPE=image/jpeg:https://www.lambspun.com/wp-content/uploads/2026/02/Top-down-sweater-scaled.jpg
ORGANIZER;CN="Lambspun":MAILTO:staff@thrivedevsite.com
END:VEVENT
BEGIN:VEVENT
DTSTART;TZID=America/Denver:20260714T093000
DTEND;TZID=America/Denver:20260714T103000
DTSTAMP:20260415T222014
CREATED:20260412T180356Z
LAST-MODIFIED:20260412T180450Z
UID:10010399-1784021400-1784025000@www.lambspun.com
SUMMARY:Cast On! Learn to knit - April 1\, 8\, 15
DESCRIPTION:Learn cast on\, knit stitch\, and cast off to open the create doors to designing winter warmers\, scarves\, blankets\, and hats. Custom teaching for every ability\, ages 7+. First yarns and needles provided!
URL:https://www.lambspun.com/event/cast-on-learn-to-knit-april-1-8-15-2/2026-07-14/
LOCATION:Lambspun Fort Collins\, 1101 East Lincoln Avenue\, Fort Collins\, CO\, 80524\, United States
CATEGORIES:Knitting Classes
ATTACH;FMTTYPE=image/jpeg:https://www.lambspun.com/wp-content/uploads/2025/02/01.-Cast-On-Learn-to-Knit-scaled.jpeg
ORGANIZER;CN="Lambspun":MAILTO:staff@thrivedevsite.com
END:VEVENT
BEGIN:VEVENT
DTSTART;TZID=America/Denver:20260714T150000
DTEND;TZID=America/Denver:20260714T160000
DTSTAMP:20260415T222014
CREATED:20260412T180012Z
LAST-MODIFIED:20260412T180047Z
UID:10010396-1784041200-1784044800@www.lambspun.com
SUMMARY:Cast On! Learn to knit - July 11\, 18\, 25
DESCRIPTION:Learn cast on\, knit stitch\, and cast off to open the create doors to designing winter warmers\, scarves\, blankets\, and hats. Custom teaching for every ability\, ages 7+. First yarns and needles provided!
URL:https://www.lambspun.com/event/cast-on-learn-to-knit-july-11-18-25/2026-07-14/
LOCATION:Lambspun Fort Collins\, 1101 East Lincoln Avenue\, Fort Collins\, CO\, 80524\, United States
CATEGORIES:Knitting Classes
ATTACH;FMTTYPE=image/jpeg:https://www.lambspun.com/wp-content/uploads/2025/02/01.-Cast-On-Learn-to-Knit-scaled.jpeg
ORGANIZER;CN="Lambspun":MAILTO:staff@thrivedevsite.com
END:VEVENT
BEGIN:VEVENT
DTSTART;TZID=America/Denver:20260714T150000
DTEND;TZID=America/Denver:20260714T160000
DTSTAMP:20260415T222014
CREATED:20260412T185219Z
LAST-MODIFIED:20260412T185438Z
UID:10010432-1784041200-1784044800@www.lambspun.com
SUMMARY:Cozy Socks - July 7\, 14\, 21
DESCRIPTION:Handcrafted\, cozy and warm – wrap your feet in artistic yarns\, both practical and plush! Patterns included.
URL:https://www.lambspun.com/event/cozy-socks-july-7-14-21/2026-07-14/
LOCATION:Lambspun Fort Collins\, 1101 East Lincoln Avenue\, Fort Collins\, CO\, 80524\, United States
CATEGORIES:Knitting Classes
ATTACH;FMTTYPE=image/jpeg:https://www.lambspun.com/wp-content/uploads/2026/02/2-cozy-socks-scaled.jpg
ORGANIZER;CN="Lambspun":MAILTO:staff@thrivedevsite.com
END:VEVENT
BEGIN:VEVENT
DTSTART;TZID=America/Denver:20260715T123000
DTEND;TZID=America/Denver:20260715T133000
DTSTAMP:20260415T222014
CREATED:20260412T175513Z
LAST-MODIFIED:20260412T175601Z
UID:10010394-1784118600-1784122200@www.lambspun.com
SUMMARY:Cast On! Learn to knit - April 1\, 8\, 15
DESCRIPTION:Learn cast on\, knit stitch\, and cast off to open the create doors to designing winter warmers\, scarves\, blankets\, and hats. Custom teaching for every ability\, ages 7+. First yarns and needles provided!
URL:https://www.lambspun.com/event/cast-on-learn-to-knit-april-1-8-15/2026-07-15/
LOCATION:Lambspun Fort Collins\, 1101 East Lincoln Avenue\, Fort Collins\, CO\, 80524\, United States
CATEGORIES:Knitting Classes
ATTACH;FMTTYPE=image/jpeg:https://www.lambspun.com/wp-content/uploads/2025/02/01.-Cast-On-Learn-to-Knit-scaled.jpeg
ORGANIZER;CN="Lambspun":MAILTO:staff@thrivedevsite.com
END:VEVENT
BEGIN:VEVENT
DTSTART;TZID=America/Denver:20260716T123000
DTEND;TZID=America/Denver:20260716T133000
DTSTAMP:20260415T222014
CREATED:20260412T190510Z
LAST-MODIFIED:20260412T190612Z
UID:10010439-1784205000-1784208600@www.lambspun.com
SUMMARY:Knitted Animals and Cuddly Toys - July 2\, 9\, 16
DESCRIPTION:Handcrafted\, cozy and warm – wrap your feet in artistic yarns\, both practical and plush! Patterns included. \nLearn to stitch on the wild side! We have a menagerie of books and patterns for your skill level. If you can knit and purl\, this class is for you! \nSkill level: intermediate to advanced
URL:https://www.lambspun.com/event/knitted-animals-and-cuddly-toys-july-2-9-16/2026-07-16/
LOCATION:Lambspun Fort Collins\, 1101 East Lincoln Avenue\, Fort Collins\, CO\, 80524\, United States
CATEGORIES:Knitting Classes
ATTACH;FMTTYPE=image/jpeg:https://www.lambspun.com/wp-content/uploads/2025/07/unnamed-6.jpg
ORGANIZER;CN="Lambspun":MAILTO:staff@thrivedevsite.com
END:VEVENT
BEGIN:VEVENT
DTSTART;TZID=America/Denver:20260721T093000
DTEND;TZID=America/Denver:20260721T103000
DTSTAMP:20260415T222014
CREATED:20260412T180356Z
LAST-MODIFIED:20260412T180450Z
UID:10010400-1784626200-1784629800@www.lambspun.com
SUMMARY:Cast On! Learn to knit - April 1\, 8\, 15
DESCRIPTION:Learn cast on\, knit stitch\, and cast off to open the create doors to designing winter warmers\, scarves\, blankets\, and hats. Custom teaching for every ability\, ages 7+. First yarns and needles provided!
URL:https://www.lambspun.com/event/cast-on-learn-to-knit-april-1-8-15-2/2026-07-21/
LOCATION:Lambspun Fort Collins\, 1101 East Lincoln Avenue\, Fort Collins\, CO\, 80524\, United States
CATEGORIES:Knitting Classes
ATTACH;FMTTYPE=image/jpeg:https://www.lambspun.com/wp-content/uploads/2025/02/01.-Cast-On-Learn-to-Knit-scaled.jpeg
ORGANIZER;CN="Lambspun":MAILTO:staff@thrivedevsite.com
END:VEVENT
BEGIN:VEVENT
DTSTART;TZID=America/Denver:20260721T150000
DTEND;TZID=America/Denver:20260721T160000
DTSTAMP:20260415T222014
CREATED:20260412T180012Z
LAST-MODIFIED:20260412T180047Z
UID:10010397-1784646000-1784649600@www.lambspun.com
SUMMARY:Cast On! Learn to knit - July 11\, 18\, 25
DESCRIPTION:Learn cast on\, knit stitch\, and cast off to open the create doors to designing winter warmers\, scarves\, blankets\, and hats. Custom teaching for every ability\, ages 7+. First yarns and needles provided!
URL:https://www.lambspun.com/event/cast-on-learn-to-knit-july-11-18-25/2026-07-21/
LOCATION:Lambspun Fort Collins\, 1101 East Lincoln Avenue\, Fort Collins\, CO\, 80524\, United States
CATEGORIES:Knitting Classes
ATTACH;FMTTYPE=image/jpeg:https://www.lambspun.com/wp-content/uploads/2025/02/01.-Cast-On-Learn-to-Knit-scaled.jpeg
ORGANIZER;CN="Lambspun":MAILTO:staff@thrivedevsite.com
END:VEVENT
BEGIN:VEVENT
DTSTART;TZID=America/Denver:20260721T150000
DTEND;TZID=America/Denver:20260721T160000
DTSTAMP:20260415T222014
CREATED:20260412T185219Z
LAST-MODIFIED:20260412T185438Z
UID:10010433-1784646000-1784649600@www.lambspun.com
SUMMARY:Cozy Socks - July 7\, 14\, 21
DESCRIPTION:Handcrafted\, cozy and warm – wrap your feet in artistic yarns\, both practical and plush! Patterns included.
URL:https://www.lambspun.com/event/cozy-socks-july-7-14-21/2026-07-21/
LOCATION:Lambspun Fort Collins\, 1101 East Lincoln Avenue\, Fort Collins\, CO\, 80524\, United States
CATEGORIES:Knitting Classes
ATTACH;FMTTYPE=image/jpeg:https://www.lambspun.com/wp-content/uploads/2026/02/2-cozy-socks-scaled.jpg
ORGANIZER;CN="Lambspun":MAILTO:staff@thrivedevsite.com
END:VEVENT
END:VCALENDAR