BEGIN:VCALENDAR
VERSION:2.0
PRODID:-//Lambspun Fort Collins - ECPv6.13.2.1//NONSGML v1.0//EN
CALSCALE:GREGORIAN
METHOD:PUBLISH
X-ORIGINAL-URL:https://www.lambspun.com
X-WR-CALDESC:Events for Lambspun Fort Collins
REFRESH-INTERVAL;VALUE=DURATION:PT1H
X-Robots-Tag:noindex
X-PUBLISHED-TTL:PT1H
BEGIN:VTIMEZONE
TZID:America/Denver
BEGIN:DAYLIGHT
TZOFFSETFROM:-0700
TZOFFSETTO:-0600
TZNAME:MDT
DTSTART:20260308T090000
END:DAYLIGHT
BEGIN:STANDARD
TZOFFSETFROM:-0600
TZOFFSETTO:-0700
TZNAME:MST
DTSTART:20261101T080000
END:STANDARD
END:VTIMEZONE
BEGIN:VEVENT
DTSTART;TZID=America/Denver:20260426T150000
DTEND;TZID=America/Denver:20260426T160000
DTSTAMP:20260421T104255
CREATED:20260412T183205Z
LAST-MODIFIED:20260412T183245Z
UID:10010412-1777215600-1777219200@www.lambspun.com
SUMMARY:Easy Top-Down Sweaters - July 2\, 9\, 16
DESCRIPTION:Hone your Knitting skills in this project-based class. Top-down\, flat\, or in the round\, choose a pattern suited to your skill level and tackle a new project with confidence! Needles and accessories available for purchase. Enjoy a 15% discount on your yarn choice. \nWhat to bring: you only need to bring yourself! Unless you already have materials you wish to use (yarn\, needles\, pattern).
URL:https://www.lambspun.com/event/easy-top-down-sweaters-july-2-9-16/2026-04-26/
LOCATION:Lambspun Fort Collins\, 1101 East Lincoln Avenue\, Fort Collins\, CO\, 80524\, United States
CATEGORIES:Knitting Classes
ATTACH;FMTTYPE=image/jpeg:https://www.lambspun.com/wp-content/uploads/2026/02/Top-down-sweater-scaled.jpg
ORGANIZER;CN="Lambspun":MAILTO:staff@thrivedevsite.com
END:VEVENT
BEGIN:VEVENT
DTSTART;TZID=America/Denver:20260501T123000
DTEND;TZID=America/Denver:20260501T133000
DTSTAMP:20260421T104255
CREATED:20260216T070111Z
LAST-MODIFIED:20260216T070355Z
UID:10010228-1777638600-1777642200@www.lambspun.com
SUMMARY:Knitted Animals and Cuddly Toys - May 1\, 8\, 15
DESCRIPTION:Learn to stitch on the wild side! We have a menagerie of books and patterns for your skill level. If you can knit and purl\, this class is for you! \nSkill level: intermediate to advanced
URL:https://www.lambspun.com/event/knitted-animals-and-cuddly-toys-may-1-8-15/2026-05-01/
LOCATION:Lambspun Fort Collins\, 1101 East Lincoln Avenue\, Fort Collins\, CO\, 80524\, United States
CATEGORIES:Knitting Classes
ATTACH;FMTTYPE=image/jpeg:https://www.lambspun.com/wp-content/uploads/2025/02/06.-Knit-Animals-and-Toys.jpg
ORGANIZER;CN="Lambspun":MAILTO:staff@thrivedevsite.com
END:VEVENT
BEGIN:VEVENT
DTSTART;TZID=America/Denver:20260501T140000
DTEND;TZID=America/Denver:20260501T150000
DTSTAMP:20260421T104255
CREATED:20260216T050706Z
LAST-MODIFIED:20260216T050706Z
UID:10010203-1777644000-1777647600@www.lambspun.com
SUMMARY:Cast on! Learn to Knit - May 1\, 8\, 15
DESCRIPTION:Learn cast on\, knit stitch\, and cast off as you make your very own scarf or mittens. Custom teaching for every ability\, ages 7+. First yarns and needles provided!
URL:https://www.lambspun.com/event/cast-on-learn-to-knit-may-1-8-15/2026-05-01/
LOCATION:Lambspun Fort Collins\, 1101 East Lincoln Avenue\, Fort Collins\, CO\, 80524\, United States
CATEGORIES:Knitting Classes
ATTACH;FMTTYPE=image/jpeg:https://www.lambspun.com/wp-content/uploads/2025/02/01.-Cast-On-Learn-to-Knit-scaled.jpeg
ORGANIZER;CN="Lambspun":MAILTO:staff@thrivedevsite.com
END:VEVENT
BEGIN:VEVENT
DTSTART;TZID=America/Denver:20260502T093000
DTEND;TZID=America/Denver:20260502T103000
DTSTAMP:20260421T104255
CREATED:20260216T050951Z
LAST-MODIFIED:20260216T050951Z
UID:10010206-1777714200-1777717800@www.lambspun.com
SUMMARY:Cast On! Learn to Knit - May 2\, 9\, 16
DESCRIPTION:Learn cast on\, knit stitch\, and cast off as you make your very own scarf or mittens. Custom teaching for every ability\, ages 7+. First yarns and needles provided!
URL:https://www.lambspun.com/event/cast-on-learn-to-knit-may-2-9-16/2026-05-02/
LOCATION:Lambspun Fort Collins\, 1101 East Lincoln Avenue\, Fort Collins\, CO\, 80524\, United States
CATEGORIES:Knitting Classes
ATTACH;FMTTYPE=image/jpeg:https://www.lambspun.com/wp-content/uploads/2025/02/01.-Cast-On-Learn-to-Knit-scaled.jpeg
ORGANIZER;CN="Lambspun":MAILTO:staff@thrivedevsite.com
END:VEVENT
END:VCALENDAR