BEGIN:VCALENDAR
VERSION:2.0
PRODID:-//Lambspun Fort Collins - ECPv6.13.2.1//NONSGML v1.0//EN
CALSCALE:GREGORIAN
METHOD:PUBLISH
X-ORIGINAL-URL:https://www.lambspun.com
X-WR-CALDESC:Events for Lambspun Fort Collins
REFRESH-INTERVAL;VALUE=DURATION:PT1H
X-Robots-Tag:noindex
X-PUBLISHED-TTL:PT1H
BEGIN:VTIMEZONE
TZID:America/Denver
BEGIN:DAYLIGHT
TZOFFSETFROM:-0700
TZOFFSETTO:-0600
TZNAME:MDT
DTSTART:20260308T090000
END:DAYLIGHT
BEGIN:STANDARD
TZOFFSETFROM:-0600
TZOFFSETTO:-0700
TZNAME:MST
DTSTART:20261101T080000
END:STANDARD
END:VTIMEZONE
BEGIN:VEVENT
DTSTART;TZID=America/Denver:20260510T150000
DTEND;TZID=America/Denver:20260510T160000
DTSTAMP:20260421T142834
CREATED:20260412T183205Z
LAST-MODIFIED:20260412T183245Z
UID:10010414-1778425200-1778428800@www.lambspun.com
SUMMARY:Easy Top-Down Sweaters - July 2\, 9\, 16
DESCRIPTION:Hone your Knitting skills in this project-based class. Top-down\, flat\, or in the round\, choose a pattern suited to your skill level and tackle a new project with confidence! Needles and accessories available for purchase. Enjoy a 15% discount on your yarn choice. \nWhat to bring: you only need to bring yourself! Unless you already have materials you wish to use (yarn\, needles\, pattern).
URL:https://www.lambspun.com/event/easy-top-down-sweaters-july-2-9-16/2026-05-10/
LOCATION:Lambspun Fort Collins\, 1101 East Lincoln Avenue\, Fort Collins\, CO\, 80524\, United States
CATEGORIES:Knitting Classes
ATTACH;FMTTYPE=image/jpeg:https://www.lambspun.com/wp-content/uploads/2026/02/Top-down-sweater-scaled.jpg
ORGANIZER;CN="Lambspun":MAILTO:staff@thrivedevsite.com
END:VEVENT
BEGIN:VEVENT
DTSTART;TZID=America/Denver:20260512T140000
DTEND;TZID=America/Denver:20260512T150000
DTSTAMP:20260421T142834
CREATED:20260216T051710Z
LAST-MODIFIED:20260216T051710Z
UID:10010213-1778594400-1778598000@www.lambspun.com
SUMMARY:Easy Top Down Sweaters - May 5 \,12\, 19
DESCRIPTION:Hone your knitting skills in this project-based class. Top-down\, flat\, or in the. round\, choose a pattern suited to your skill level and tackle a new project with confidence! Needles accessories available for purchase. enjoy a 15% discount on your yarn choice.
URL:https://www.lambspun.com/event/easy-top-down-sweaters-may-5-12-19/2026-05-12/
LOCATION:Lambspun Fort Collins\, 1101 East Lincoln Avenue\, Fort Collins\, CO\, 80524\, United States
CATEGORIES:Knitting Classes
ATTACH;FMTTYPE=image/jpeg:https://www.lambspun.com/wp-content/uploads/2026/02/Top-down-sweater-scaled.jpg
ORGANIZER;CN="Lambspun":MAILTO:staff@thrivedevsite.com
END:VEVENT
BEGIN:VEVENT
DTSTART;TZID=America/Denver:20260512T150000
DTEND;TZID=America/Denver:20260512T160000
DTSTAMP:20260421T142834
CREATED:20260216T065502Z
LAST-MODIFIED:20260216T065502Z
UID:10010226-1778598000-1778601600@www.lambspun.com
SUMMARY:Mosaic Colowork Knitting - May 5\, 12\, 19
DESCRIPTION:Simplify colorwork with mosaic and slip-stitch knitting. These fast techniques give impressive results! Select a complimentary pattern with the guidance of our expert. instructors. If you can knit and purl\, you’re ready for this experience! \nSkill level: intermediate
URL:https://www.lambspun.com/event/mosaic-colowork-knitting-may-5-12-19/2026-05-12/
LOCATION:Lambspun Fort Collins\, 1101 East Lincoln Avenue\, Fort Collins\, CO\, 80524\, United States
CATEGORIES:Knitting Classes
ATTACH;FMTTYPE=image/jpeg:https://www.lambspun.com/wp-content/uploads/2025/07/unnamed-5.jpg
ORGANIZER;CN="Lambspun":MAILTO:staff@thrivedevsite.com
END:VEVENT
BEGIN:VEVENT
DTSTART;TZID=America/Denver:20260513T123000
DTEND;TZID=America/Denver:20260513T133000
DTSTAMP:20260421T142834
CREATED:20260216T051255Z
LAST-MODIFIED:20260216T051255Z
UID:10010210-1778675400-1778679000@www.lambspun.com
SUMMARY:Cast On! Learn to Knit - May 6\, 13\, 20
DESCRIPTION:Learn cast on\, knit stitch\, and cast off as you make your very own scarf or mittens. Custom teaching for every ability\, ages 7+. First yarns and needles provided!
URL:https://www.lambspun.com/event/cast-on-learn-to-knit-may-6-13-20/2026-05-13/
LOCATION:Lambspun Fort Collins\, 1101 East Lincoln Avenue\, Fort Collins\, CO\, 80524\, United States
CATEGORIES:Knitting Classes
ATTACH;FMTTYPE=image/jpeg:https://www.lambspun.com/wp-content/uploads/2025/02/01.-Cast-On-Learn-to-Knit-scaled.jpeg
ORGANIZER;CN="Lambspun":MAILTO:staff@thrivedevsite.com
END:VEVENT
BEGIN:VEVENT
DTSTART;TZID=America/Denver:20260514T123000
DTEND;TZID=America/Denver:20260514T140000
DTSTAMP:20260421T142834
CREATED:20260216T064816Z
LAST-MODIFIED:20260219T083749Z
UID:10010222-1778761800-1778767200@www.lambspun.com
SUMMARY:Design Your Own Colorwork - May 7\, 14\, 21\, 28
DESCRIPTION:Make any pattern your own! In this 4-session class\, start with a pattern that has no colorwork on it\, and learn how to choose aa design and graph it out to fit your project. Work with stranded or mosaic colorwork techniques to complete your project. prior experience is helpful but not required. \nSkill level: intermediate beginner \n 
URL:https://www.lambspun.com/event/design-your-own-colorwork-may-7-14-21-28/2026-05-14/
LOCATION:Lambspun Fort Collins\, 1101 East Lincoln Avenue\, Fort Collins\, CO\, 80524\, United States
CATEGORIES:Knitting Classes
ATTACH;FMTTYPE=image/jpeg:https://www.lambspun.com/wp-content/uploads/2026/02/Isabels-stocking.jpg
ORGANIZER;CN="Lambspun":MAILTO:staff@thrivedevsite.com
END:VEVENT
BEGIN:VEVENT
DTSTART;TZID=America/Denver:20260514T140000
DTEND;TZID=America/Denver:20260514T150000
DTSTAMP:20260421T142834
CREATED:20260216T052637Z
LAST-MODIFIED:20260216T052637Z
UID:10010219-1778767200-1778770800@www.lambspun.com
SUMMARY:Cozy Socks - May 7\, 14\, 21
DESCRIPTION:Handcrafted\, cozy and warm – wrap your feet in artistic yarns\, both practical and plush! Patterns included.
URL:https://www.lambspun.com/event/cozy-socks-may-7-14-21/2026-05-14/
LOCATION:Lambspun Fort Collins\, 1101 East Lincoln Avenue\, Fort Collins\, CO\, 80524\, United States
CATEGORIES:Knitting Classes
ATTACH;FMTTYPE=image/jpeg:https://www.lambspun.com/wp-content/uploads/2026/02/2-cozy-socks-scaled.jpg
ORGANIZER;CN="Lambspun":MAILTO:staff@thrivedevsite.com
END:VEVENT
BEGIN:VEVENT
DTSTART;TZID=America/Denver:20260514T150000
DTEND;TZID=America/Denver:20260514T160000
DTSTAMP:20260421T142834
CREATED:20260216T052311Z
LAST-MODIFIED:20260216T052311Z
UID:10010216-1778770800-1778774400@www.lambspun.com
SUMMARY:Intro to Colorwork: Hats - May 7\, 14\, 21
DESCRIPTION:Begin your colorwork journey or expand your skills with a project from Knitting the USA\, Knitting the National Parks\, or Knitting California. These popular hats are inspired by some of the most beloved landscapes of the US. You’ll get step-by-step guidance to create a hat you love!
URL:https://www.lambspun.com/event/intro-to-colorwork-hats-may-7-14-21/2026-05-14/
LOCATION:Lambspun Fort Collins\, 1101 East Lincoln Avenue\, Fort Collins\, CO\, 80524\, United States
CATEGORIES:Knitting Classes
ATTACH;FMTTYPE=image/jpeg:https://www.lambspun.com/wp-content/uploads/2026/02/knitted-hats--scaled.jpg
ORGANIZER;CN="Lambspun":MAILTO:staff@thrivedevsite.com
END:VEVENT
BEGIN:VEVENT
DTSTART;TZID=America/Denver:20260515T123000
DTEND;TZID=America/Denver:20260515T133000
DTSTAMP:20260421T142834
CREATED:20260216T070111Z
LAST-MODIFIED:20260216T070355Z
UID:10010230-1778848200-1778851800@www.lambspun.com
SUMMARY:Knitted Animals and Cuddly Toys - May 1\, 8\, 15
DESCRIPTION:Learn to stitch on the wild side! We have a menagerie of books and patterns for your skill level. If you can knit and purl\, this class is for you! \nSkill level: intermediate to advanced
URL:https://www.lambspun.com/event/knitted-animals-and-cuddly-toys-may-1-8-15/2026-05-15/
LOCATION:Lambspun Fort Collins\, 1101 East Lincoln Avenue\, Fort Collins\, CO\, 80524\, United States
CATEGORIES:Knitting Classes
ATTACH;FMTTYPE=image/jpeg:https://www.lambspun.com/wp-content/uploads/2025/02/06.-Knit-Animals-and-Toys.jpg
ORGANIZER;CN="Lambspun":MAILTO:staff@thrivedevsite.com
END:VEVENT
BEGIN:VEVENT
DTSTART;TZID=America/Denver:20260515T140000
DTEND;TZID=America/Denver:20260515T150000
DTSTAMP:20260421T142834
CREATED:20260216T050706Z
LAST-MODIFIED:20260216T050706Z
UID:10010205-1778853600-1778857200@www.lambspun.com
SUMMARY:Cast on! Learn to Knit - May 1\, 8\, 15
DESCRIPTION:Learn cast on\, knit stitch\, and cast off as you make your very own scarf or mittens. Custom teaching for every ability\, ages 7+. First yarns and needles provided!
URL:https://www.lambspun.com/event/cast-on-learn-to-knit-may-1-8-15/2026-05-15/
LOCATION:Lambspun Fort Collins\, 1101 East Lincoln Avenue\, Fort Collins\, CO\, 80524\, United States
CATEGORIES:Knitting Classes
ATTACH;FMTTYPE=image/jpeg:https://www.lambspun.com/wp-content/uploads/2025/02/01.-Cast-On-Learn-to-Knit-scaled.jpeg
ORGANIZER;CN="Lambspun":MAILTO:staff@thrivedevsite.com
END:VEVENT
BEGIN:VEVENT
DTSTART;TZID=America/Denver:20260516T093000
DTEND;TZID=America/Denver:20260516T103000
DTSTAMP:20260421T142834
CREATED:20260216T050951Z
LAST-MODIFIED:20260216T050951Z
UID:10010208-1778923800-1778927400@www.lambspun.com
SUMMARY:Cast On! Learn to Knit - May 2\, 9\, 16
DESCRIPTION:Learn cast on\, knit stitch\, and cast off as you make your very own scarf or mittens. Custom teaching for every ability\, ages 7+. First yarns and needles provided!
URL:https://www.lambspun.com/event/cast-on-learn-to-knit-may-2-9-16/2026-05-16/
LOCATION:Lambspun Fort Collins\, 1101 East Lincoln Avenue\, Fort Collins\, CO\, 80524\, United States
CATEGORIES:Knitting Classes
ATTACH;FMTTYPE=image/jpeg:https://www.lambspun.com/wp-content/uploads/2025/02/01.-Cast-On-Learn-to-Knit-scaled.jpeg
ORGANIZER;CN="Lambspun":MAILTO:staff@thrivedevsite.com
END:VEVENT
END:VCALENDAR