BEGIN:VCALENDAR
VERSION:2.0
PRODID:-//Lambspun Fort Collins - ECPv6.13.2.1//NONSGML v1.0//EN
CALSCALE:GREGORIAN
METHOD:PUBLISH
X-WR-CALNAME:Lambspun Fort Collins
X-ORIGINAL-URL:https://www.lambspun.com
X-WR-CALDESC:Events for Lambspun Fort Collins
REFRESH-INTERVAL;VALUE=DURATION:PT1H
X-Robots-Tag:noindex
X-PUBLISHED-TTL:PT1H
BEGIN:VTIMEZONE
TZID:America/Denver
BEGIN:DAYLIGHT
TZOFFSETFROM:-0700
TZOFFSETTO:-0600
TZNAME:MDT
DTSTART:20260308T090000
END:DAYLIGHT
BEGIN:STANDARD
TZOFFSETFROM:-0600
TZOFFSETTO:-0700
TZNAME:MST
DTSTART:20261101T080000
END:STANDARD
END:VTIMEZONE
BEGIN:VEVENT
DTSTART;TZID=America/Denver:20260621T150000
DTEND;TZID=America/Denver:20260621T160000
DTSTAMP:20260421T151150
CREATED:20260412T183205Z
LAST-MODIFIED:20260412T183245Z
UID:10010420-1782054000-1782057600@www.lambspun.com
SUMMARY:Easy Top-Down Sweaters - July 2\, 9\, 16
DESCRIPTION:Hone your Knitting skills in this project-based class. Top-down\, flat\, or in the round\, choose a pattern suited to your skill level and tackle a new project with confidence! Needles and accessories available for purchase. Enjoy a 15% discount on your yarn choice. \nWhat to bring: you only need to bring yourself! Unless you already have materials you wish to use (yarn\, needles\, pattern).
URL:https://www.lambspun.com/event/easy-top-down-sweaters-july-2-9-16/2026-06-21/
LOCATION:Lambspun Fort Collins\, 1101 East Lincoln Avenue\, Fort Collins\, CO\, 80524\, United States
CATEGORIES:Knitting Classes
ATTACH;FMTTYPE=image/jpeg:https://www.lambspun.com/wp-content/uploads/2026/02/Top-down-sweater-scaled.jpg
ORGANIZER;CN="Lambspun":MAILTO:staff@thrivedevsite.com
END:VEVENT
BEGIN:VEVENT
DTSTART;TZID=America/Denver:20260623T093000
DTEND;TZID=America/Denver:20260623T103000
DTSTAMP:20260421T151150
CREATED:20260219T083955Z
LAST-MODIFIED:20260219T111246Z
UID:10010285-1782207000-1782210600@www.lambspun.com
SUMMARY:Design Your Own Colorwork - June 2\, 9\, 16\, 23
DESCRIPTION:Make any pattern your own! In this 4-session class\, start with a pattern that has no colorwork on it\, and learn how to choose aa design and graph it out to fit your project. Work with stranded or mosaic colorwork techniques to complete your project. prior experience is helpful but not required. \nSkill level: intermediate beginner \n 
URL:https://www.lambspun.com/event/design-your-own-colorwork-june-2-9-16-23/2026-06-23/
LOCATION:Lambspun Fort Collins\, 1101 East Lincoln Avenue\, Fort Collins\, CO\, 80524\, United States
CATEGORIES:Knitting Classes
ATTACH;FMTTYPE=image/jpeg:https://www.lambspun.com/wp-content/uploads/2026/02/Isabels-stocking.jpg
ORGANIZER;CN="Lambspun":MAILTO:staff@thrivedevsite.com
END:VEVENT
END:VCALENDAR