BEGIN:VCALENDAR
VERSION:2.0
PRODID:-//Lambspun Fort Collins - ECPv6.13.2.1//NONSGML v1.0//EN
CALSCALE:GREGORIAN
METHOD:PUBLISH
X-ORIGINAL-URL:https://www.lambspun.com
X-WR-CALDESC:Events for Lambspun Fort Collins
REFRESH-INTERVAL;VALUE=DURATION:PT1H
X-Robots-Tag:noindex
X-PUBLISHED-TTL:PT1H
BEGIN:VTIMEZONE
TZID:America/Denver
BEGIN:DAYLIGHT
TZOFFSETFROM:-0700
TZOFFSETTO:-0600
TZNAME:MDT
DTSTART:20260308T090000
END:DAYLIGHT
BEGIN:STANDARD
TZOFFSETFROM:-0600
TZOFFSETTO:-0700
TZNAME:MST
DTSTART:20261101T080000
END:STANDARD
END:VTIMEZONE
BEGIN:VEVENT
DTSTART;TZID=America/Denver:20260820T123000
DTEND;TZID=America/Denver:20260820T133000
DTSTAMP:20260420T114039
CREATED:20260412T202240Z
LAST-MODIFIED:20260412T202324Z
UID:10010603-1787229000-1787232600@www.lambspun.com
SUMMARY:Crochet from Scratch - August 6\, 13\, 20
DESCRIPTION:If you have little or no experience with crocheting\, this class will guide you through the basics\, including straight edges\, single crochet\, and variations. Get troubleshooting tips to ensure successful finished results!
URL:https://www.lambspun.com/event/crochet-from-scratch-august-6-13-20/2026-08-20/
LOCATION:Lambspun Fort Collins\, 1101 East Lincoln Avenue\, Fort Collins\, CO\, 80524\, United States
CATEGORIES:Crochet Classes
ATTACH;FMTTYPE=image/jpeg:https://www.lambspun.com/wp-content/uploads/2026/02/Green-crochet-bag-scaled.jpg
ORGANIZER;CN="Lambspun":MAILTO:staff@thrivedevsite.com
END:VEVENT
BEGIN:VEVENT
DTSTART;TZID=America/Denver:20260820T140000
DTEND;TZID=America/Denver:20260820T140000
DTSTAMP:20260420T114039
CREATED:20260412T190918Z
LAST-MODIFIED:20260412T191219Z
UID:10010444-1787234400-1787234400@www.lambspun.com
SUMMARY:Intro to Colorwork: Mittens - August 6\, 13\, 20
DESCRIPTION:Prep for cozy season while you up your knitting game! Learn colorwork as you knit a pair of mittens. Knowledge of cast on\, knit\, purl and cast off are helpful\, but no prior experience with mittens required. \nPatterns included
URL:https://www.lambspun.com/event/intro-to-colorwork-mittens-august-6-13-20/2026-08-20/
LOCATION:Lambspun Fort Collins\, 1101 East Lincoln Avenue\, Fort Collins\, CO\, 80524\, United States
CATEGORIES:Knitting Classes
ATTACH;FMTTYPE=image/jpeg:https://www.lambspun.com/wp-content/uploads/2026/02/Colorwork-mittens--scaled.jpg
ORGANIZER;CN="Lambspun":MAILTO:staff@thrivedevsite.com
END:VEVENT
BEGIN:VEVENT
DTSTART;TZID=America/Denver:20260820T140000
DTEND;TZID=America/Denver:20260820T150000
DTSTAMP:20260420T114039
CREATED:20260412T183525Z
LAST-MODIFIED:20260412T183640Z
UID:10010426-1787234400-1787238000@www.lambspun.com
SUMMARY:Easy Top-Down Sweaters - August 6\, 13\, 20
DESCRIPTION:Hone your Knitting skills in this project-based class. Top-down\, flat\, or in the round\, choose a pattern suited to your skill level and tackle a new project with confidence! Needles and accessories available for purchase. Enjoy a 15% discount on your yarn choice. \nWhat to bring: you only need to bring yourself! Unless you already have materials you wish to use (yarn\, needles\, pattern).
URL:https://www.lambspun.com/event/easy-top-down-sweaters-august-6-13-20/2026-08-20/
LOCATION:Lambspun Fort Collins\, 1101 East Lincoln Avenue\, Fort Collins\, CO\, 80524\, United States
CATEGORIES:Knitting Classes
ATTACH;FMTTYPE=image/jpeg:https://www.lambspun.com/wp-content/uploads/2026/02/Top-down-sweater-scaled.jpg
ORGANIZER;CN="Lambspun":MAILTO:staff@thrivedevsite.com
END:VEVENT
BEGIN:VEVENT
DTSTART;TZID=America/Denver:20260821T093000
DTEND;TZID=America/Denver:20260821T103000
DTSTAMP:20260420T114039
CREATED:20260416T024125Z
LAST-MODIFIED:20260416T024247Z
UID:10010653-1787304600-1787308200@www.lambspun.com
SUMMARY:Welcome to Weaving - August 4\, 14\, 21
DESCRIPTION:In this 4-week class\, plan a project\, warp a loom\, and weave away! In the last session\, you’ll learn finishing details that will take your project to the next level. The use of one of our looms is included in with registration. Enjoy a 15% discount on yarns for your project\, and a free class series with loom purchase!
URL:https://www.lambspun.com/event/welcome-to-weaving-august-4-14-21/2026-08-21/
LOCATION:Lambspun Fort Collins\, 1101 East Lincoln Avenue\, Fort Collins\, CO\, 80524\, United States
CATEGORIES:Weaving Classes
ATTACH;FMTTYPE=image/jpeg:https://www.lambspun.com/wp-content/uploads/2026/02/welcome-to-weaving-picture-scaled.jpg
ORGANIZER;CN="Lambspun":MAILTO:staff@thrivedevsite.com
END:VEVENT
BEGIN:VEVENT
DTSTART;TZID=America/Denver:20260821T110000
DTEND;TZID=America/Denver:20260821T120000
DTSTAMP:20260420T114039
CREATED:20260319T073249Z
LAST-MODIFIED:20260319T073445Z
UID:10010347-1787310000-1787313600@www.lambspun.com
SUMMARY:Granny Square Garden - May 1\, 8\, 15
DESCRIPTION:Start here\, grow anywhere! Have fun with a modern guide\, the Granny Square. Flowers Card Deck\, and assemble your creations into blankets\, garments and more!
URL:https://www.lambspun.com/event/granny-square-garden-may-1-8-15/2026-08-21/
LOCATION:Lambspun Fort Collins\, 1101 East Lincoln Avenue\, Fort Collins\, CO\, 80524\, United States
CATEGORIES:Crochet Classes
ATTACH;FMTTYPE=image/jpeg:https://www.lambspun.com/wp-content/uploads/2026/03/Granny-Squares--scaled.jpg
ORGANIZER;CN="Lambspun":MAILTO:staff@thrivedevsite.com
END:VEVENT
BEGIN:VEVENT
DTSTART;TZID=America/Denver:20260821T110000
DTEND;TZID=America/Denver:20260821T120000
DTSTAMP:20260420T114039
CREATED:20260412T192106Z
LAST-MODIFIED:20260412T192207Z
UID:10010462-1787310000-1787313600@www.lambspun.com
SUMMARY:Needle Felt Magic - August 7\, 14\, 21
DESCRIPTION:Use felting needles in a process\, often described as magical\, to transform wool into adorable little sculptures. A great class for the whole family\, ages 7 and up! Fibers provided.
URL:https://www.lambspun.com/event/needle-felt-magic-april-4-11-18-2/2026-08-21/
LOCATION:Lambspun Fort Collins\, 1101 East Lincoln Avenue\, Fort Collins\, CO\, 80524\, United States
CATEGORIES:Needle Felting Classes
ATTACH;FMTTYPE=image/jpeg:https://www.lambspun.com/wp-content/uploads/2026/02/needle-felt-magic--scaled.jpg
ORGANIZER;CN="Lambspun":MAILTO:staff@thrivedevsite.com
END:VEVENT
BEGIN:VEVENT
DTSTART;TZID=America/Denver:20260821T123000
DTEND;TZID=America/Denver:20260821T133000
DTSTAMP:20260420T114039
CREATED:20260412T181604Z
LAST-MODIFIED:20260412T182409Z
UID:10010409-1787315400-1787319000@www.lambspun.com
SUMMARY:Cast On! Learn to knit - August 7\, 14\, 21
DESCRIPTION:Learn cast on\, knit stitch\, and cast off to open the create doors to designing winter warmers\, scarves\, blankets\, and hats. Custom teaching for every ability\, ages 7+. First yarns and needles provided!
URL:https://www.lambspun.com/event/cast-on-learn-to-knit-august-7-14-21/2026-08-21/
LOCATION:Lambspun Fort Collins\, 1101 East Lincoln Avenue\, Fort Collins\, CO\, 80524\, United States
CATEGORIES:Knitting Classes
ATTACH;FMTTYPE=image/jpeg:https://www.lambspun.com/wp-content/uploads/2025/02/01.-Cast-On-Learn-to-Knit-scaled.jpeg
ORGANIZER;CN="Lambspun":MAILTO:staff@thrivedevsite.com
END:VEVENT
BEGIN:VEVENT
DTSTART;TZID=America/Denver:20260821T123000
DTEND;TZID=America/Denver:20260821T173000
DTSTAMP:20260420T114039
CREATED:20250830T155505Z
LAST-MODIFIED:20250830T155505Z
UID:10009636-1787315400-1787333400@www.lambspun.com
SUMMARY:Potluck Friday
DESCRIPTION:Come join the fun.  Bring something yummy to share. \nEnjoy good food\, organic Rishi teas\, and conversation. Spin\, weave\, crochet — all fiber arts\, all levels welcome! \nPotluck Fridays are free and open to everyone interested. Informal and relaxing!
URL:https://www.lambspun.com/event/potluck-friday-2/2026-08-21/
LOCATION:Lambspun Fort Collins\, 1101 East Lincoln Avenue\, Fort Collins\, CO\, 80524\, United States
CATEGORIES:Potluck
ATTACH;FMTTYPE=image/png:https://www.lambspun.com/wp-content/uploads/2025/01/pot-luck-e1737865732196.png
ORGANIZER;CN="Lambspun":MAILTO:staff@thrivedevsite.com
END:VEVENT
BEGIN:VEVENT
DTSTART;TZID=America/Denver:20260821T140000
DTEND;TZID=America/Denver:20260821T150000
DTSTAMP:20260420T114039
CREATED:20260412T194748Z
LAST-MODIFIED:20260412T195111Z
UID:10010579-1787320800-1787324400@www.lambspun.com
SUMMARY:Fleece to Skein: Learn to Spin - August 7\, 14\, 21
DESCRIPTION:Take charge of your yarns as you design your very own textured handspun! Learn every step of the process\, from blending your choice of natural fibers to spinning and plying\, and customize your finished product for knitting\, weaving\, or crochet. Use of carders\, blending boards\, spindles\, spinning wheels and more are included with registration.
URL:https://www.lambspun.com/event/fleece-to-skein-learn-to-spin-august-7-14-21/2026-08-21/
LOCATION:Lambspun Fort Collins\, 1101 East Lincoln Avenue\, Fort Collins\, CO\, 80524\, United States
CATEGORIES:Spinning Classes
ATTACH;FMTTYPE=image/jpeg:https://www.lambspun.com/wp-content/uploads/2025/10/Lavander-sunset-scaled.jpg
ORGANIZER;CN="Lambspun":MAILTO:staff@thrivedevsite.com
END:VEVENT
BEGIN:VEVENT
DTSTART;TZID=America/Denver:20260821T150000
DTEND;TZID=America/Denver:20260821T160000
DTSTAMP:20260420T114039
CREATED:20260416T002901Z
LAST-MODIFIED:20260416T002934Z
UID:10010634-1787324400-1787328000@www.lambspun.com
SUMMARY:Navajo & Frame Loom Tapestry Weaving - August 7\, 14\, 21
DESCRIPTION:Awaken your inner artist! Navajo and tapestry weaving are wed-faced techniques that create imaginative pictorial designs and beautiful functional items like rugs\, blankets\, and runners. The use of one of our looms is included with registration; class fee is waived if you purchase an Arras Tapestry Loom from us prior to your class. Enjoy a 15% discount on yarns while you are enrolled in the class. Suitable for all levels of learning!
URL:https://www.lambspun.com/event/navajo-frame-loom-tapestry-weaving-august-7-14-21/2026-08-21/
LOCATION:Lambspun Fort Collins\, 1101 East Lincoln Avenue\, Fort Collins\, CO\, 80524\, United States
CATEGORIES:Weaving Classes
ATTACH;FMTTYPE=image/jpeg:https://www.lambspun.com/wp-content/uploads/2025/02/17.-Navajo-Tapestry-Weaving.jpg
ORGANIZER;CN="Lambspun":MAILTO:staff@thrivedevsite.com
END:VEVENT
BEGIN:VEVENT
DTSTART;TZID=America/Denver:20260822T110000
DTEND;TZID=America/Denver:20260822T120000
DTSTAMP:20260420T114039
CREATED:20260412T194042Z
LAST-MODIFIED:20260412T194146Z
UID:10010525-1787396400-1787400000@www.lambspun.com
SUMMARY:Fleece to Skein: Learn to Spin - July 11\, 18\, 25
DESCRIPTION:Take charge of your yarns as you design your very own textured handspun! Learn every step of the process\, from blending your choice of natural fibers to spinning and plying\, and customize your finished product for knitting\, weaving\, or crochet. Use of carders\, blending boards\, spindles\, spinning wheels and more are included with registration.
URL:https://www.lambspun.com/event/fleece-to-skein-learn-to-spin-july-11-18-25/2026-08-22/
LOCATION:Lambspun Fort Collins\, 1101 East Lincoln Avenue\, Fort Collins\, CO\, 80524\, United States
CATEGORIES:Spinning Classes
ATTACH;FMTTYPE=image/jpeg:https://www.lambspun.com/wp-content/uploads/2025/10/Lavander-sunset-scaled.jpg
ORGANIZER;CN="Lambspun":MAILTO:staff@thrivedevsite.com
END:VEVENT
BEGIN:VEVENT
DTSTART;TZID=America/Denver:20260825T093000
DTEND;TZID=America/Denver:20260825T130000
DTSTAMP:20260420T114039
CREATED:20260412T192720Z
LAST-MODIFIED:20260412T193151Z
UID:10010463-1787650200-1787662800@www.lambspun.com
SUMMARY:Paint with Wool: Wet felting - August 25
DESCRIPTION:Explore blending ideas and enjoy access to a beautiful rainbow of colors. Learn how to finish and hang your image. All fibers provided!
URL:https://www.lambspun.com/event/paint-with-wool-wet-felting-august-25/
LOCATION:Lambspun Fort Collins\, 1101 East Lincoln Avenue\, Fort Collins\, CO\, 80524\, United States
CATEGORIES:Wet Felting
ATTACH;FMTTYPE=image/jpeg:https://www.lambspun.com/wp-content/uploads/2025/12/Felted-butterfly-scaled.jpg
ORGANIZER;CN="Lambspun":MAILTO:staff@thrivedevsite.com
END:VEVENT
BEGIN:VEVENT
DTSTART;TZID=America/Denver:20260826T150000
DTEND;TZID=America/Denver:20260826T160000
DTSTAMP:20260420T114039
CREATED:20260412T193548Z
LAST-MODIFIED:20260412T193717Z
UID:10010472-1787756400-1787760000@www.lambspun.com
SUMMARY:Fleece to Skein: Learn to Spin - July 1\, 8\, 15
DESCRIPTION:Take charge of your yarns as you design your very own textured handspun! Learn every step of the process\, from blending your choice of natural fibers to spinning and plying\, and customize your finished product for knitting\, weaving\, or crochet. Use of carders\, blending boards\, spindles\, spinning wheels and more are included with registration.
URL:https://www.lambspun.com/event/fleece-to-skein-learn-to-spin-1-8-15/2026-08-26/
LOCATION:Lambspun Fort Collins\, 1101 East Lincoln Avenue\, Fort Collins\, CO\, 80524\, United States
CATEGORIES:Spinning Classes
ATTACH;FMTTYPE=image/jpeg:https://www.lambspun.com/wp-content/uploads/2025/10/Lavander-sunset-scaled.jpg
ORGANIZER;CN="Lambspun":MAILTO:staff@thrivedevsite.com
END:VEVENT
BEGIN:VEVENT
DTSTART;TZID=America/Denver:20260828T110000
DTEND;TZID=America/Denver:20260828T120000
DTSTAMP:20260420T114039
CREATED:20260319T073249Z
LAST-MODIFIED:20260319T073445Z
UID:10010348-1787914800-1787918400@www.lambspun.com
SUMMARY:Granny Square Garden - May 1\, 8\, 15
DESCRIPTION:Start here\, grow anywhere! Have fun with a modern guide\, the Granny Square. Flowers Card Deck\, and assemble your creations into blankets\, garments and more!
URL:https://www.lambspun.com/event/granny-square-garden-may-1-8-15/2026-08-28/
LOCATION:Lambspun Fort Collins\, 1101 East Lincoln Avenue\, Fort Collins\, CO\, 80524\, United States
CATEGORIES:Crochet Classes
ATTACH;FMTTYPE=image/jpeg:https://www.lambspun.com/wp-content/uploads/2026/03/Granny-Squares--scaled.jpg
ORGANIZER;CN="Lambspun":MAILTO:staff@thrivedevsite.com
END:VEVENT
BEGIN:VEVENT
DTSTART;TZID=America/Denver:20260828T123000
DTEND;TZID=America/Denver:20260828T173000
DTSTAMP:20260420T114039
CREATED:20250830T155505Z
LAST-MODIFIED:20250830T155505Z
UID:10009637-1787920200-1787938200@www.lambspun.com
SUMMARY:Potluck Friday
DESCRIPTION:Come join the fun.  Bring something yummy to share. \nEnjoy good food\, organic Rishi teas\, and conversation. Spin\, weave\, crochet — all fiber arts\, all levels welcome! \nPotluck Fridays are free and open to everyone interested. Informal and relaxing!
URL:https://www.lambspun.com/event/potluck-friday-2/2026-08-28/
LOCATION:Lambspun Fort Collins\, 1101 East Lincoln Avenue\, Fort Collins\, CO\, 80524\, United States
CATEGORIES:Potluck
ATTACH;FMTTYPE=image/png:https://www.lambspun.com/wp-content/uploads/2025/01/pot-luck-e1737865732196.png
ORGANIZER;CN="Lambspun":MAILTO:staff@thrivedevsite.com
END:VEVENT
BEGIN:VEVENT
DTSTART;TZID=America/Denver:20260829T110000
DTEND;TZID=America/Denver:20260829T120000
DTSTAMP:20260420T114039
CREATED:20260412T194042Z
LAST-MODIFIED:20260412T194146Z
UID:10010526-1788001200-1788004800@www.lambspun.com
SUMMARY:Fleece to Skein: Learn to Spin - July 11\, 18\, 25
DESCRIPTION:Take charge of your yarns as you design your very own textured handspun! Learn every step of the process\, from blending your choice of natural fibers to spinning and plying\, and customize your finished product for knitting\, weaving\, or crochet. Use of carders\, blending boards\, spindles\, spinning wheels and more are included with registration.
URL:https://www.lambspun.com/event/fleece-to-skein-learn-to-spin-july-11-18-25/2026-08-29/
LOCATION:Lambspun Fort Collins\, 1101 East Lincoln Avenue\, Fort Collins\, CO\, 80524\, United States
CATEGORIES:Spinning Classes
ATTACH;FMTTYPE=image/jpeg:https://www.lambspun.com/wp-content/uploads/2025/10/Lavander-sunset-scaled.jpg
ORGANIZER;CN="Lambspun":MAILTO:staff@thrivedevsite.com
END:VEVENT
BEGIN:VEVENT
DTSTART;TZID=America/Denver:20260902T150000
DTEND;TZID=America/Denver:20260902T160000
DTSTAMP:20260420T114039
CREATED:20260412T193548Z
LAST-MODIFIED:20260412T193717Z
UID:10010473-1788361200-1788364800@www.lambspun.com
SUMMARY:Fleece to Skein: Learn to Spin - July 1\, 8\, 15
DESCRIPTION:Take charge of your yarns as you design your very own textured handspun! Learn every step of the process\, from blending your choice of natural fibers to spinning and plying\, and customize your finished product for knitting\, weaving\, or crochet. Use of carders\, blending boards\, spindles\, spinning wheels and more are included with registration.
URL:https://www.lambspun.com/event/fleece-to-skein-learn-to-spin-1-8-15/2026-09-02/
LOCATION:Lambspun Fort Collins\, 1101 East Lincoln Avenue\, Fort Collins\, CO\, 80524\, United States
CATEGORIES:Spinning Classes
ATTACH;FMTTYPE=image/jpeg:https://www.lambspun.com/wp-content/uploads/2025/10/Lavander-sunset-scaled.jpg
ORGANIZER;CN="Lambspun":MAILTO:staff@thrivedevsite.com
END:VEVENT
BEGIN:VEVENT
DTSTART;TZID=America/Denver:20260904T110000
DTEND;TZID=America/Denver:20260904T120000
DTSTAMP:20260420T114039
CREATED:20260319T073249Z
LAST-MODIFIED:20260319T073445Z
UID:10010349-1788519600-1788523200@www.lambspun.com
SUMMARY:Granny Square Garden - May 1\, 8\, 15
DESCRIPTION:Start here\, grow anywhere! Have fun with a modern guide\, the Granny Square. Flowers Card Deck\, and assemble your creations into blankets\, garments and more!
URL:https://www.lambspun.com/event/granny-square-garden-may-1-8-15/2026-09-04/
LOCATION:Lambspun Fort Collins\, 1101 East Lincoln Avenue\, Fort Collins\, CO\, 80524\, United States
CATEGORIES:Crochet Classes
ATTACH;FMTTYPE=image/jpeg:https://www.lambspun.com/wp-content/uploads/2026/03/Granny-Squares--scaled.jpg
ORGANIZER;CN="Lambspun":MAILTO:staff@thrivedevsite.com
END:VEVENT
BEGIN:VEVENT
DTSTART;TZID=America/Denver:20260904T123000
DTEND;TZID=America/Denver:20260904T173000
DTSTAMP:20260420T114039
CREATED:20250830T155505Z
LAST-MODIFIED:20250830T155505Z
UID:10009638-1788525000-1788543000@www.lambspun.com
SUMMARY:Potluck Friday
DESCRIPTION:Come join the fun.  Bring something yummy to share. \nEnjoy good food\, organic Rishi teas\, and conversation. Spin\, weave\, crochet — all fiber arts\, all levels welcome! \nPotluck Fridays are free and open to everyone interested. Informal and relaxing!
URL:https://www.lambspun.com/event/potluck-friday-2/2026-09-04/
LOCATION:Lambspun Fort Collins\, 1101 East Lincoln Avenue\, Fort Collins\, CO\, 80524\, United States
CATEGORIES:Potluck
ATTACH;FMTTYPE=image/png:https://www.lambspun.com/wp-content/uploads/2025/01/pot-luck-e1737865732196.png
ORGANIZER;CN="Lambspun":MAILTO:staff@thrivedevsite.com
END:VEVENT
BEGIN:VEVENT
DTSTART;TZID=America/Denver:20260905T110000
DTEND;TZID=America/Denver:20260905T120000
DTSTAMP:20260420T114039
CREATED:20260412T194042Z
LAST-MODIFIED:20260412T194146Z
UID:10010527-1788606000-1788609600@www.lambspun.com
SUMMARY:Fleece to Skein: Learn to Spin - July 11\, 18\, 25
DESCRIPTION:Take charge of your yarns as you design your very own textured handspun! Learn every step of the process\, from blending your choice of natural fibers to spinning and plying\, and customize your finished product for knitting\, weaving\, or crochet. Use of carders\, blending boards\, spindles\, spinning wheels and more are included with registration.
URL:https://www.lambspun.com/event/fleece-to-skein-learn-to-spin-july-11-18-25/2026-09-05/
LOCATION:Lambspun Fort Collins\, 1101 East Lincoln Avenue\, Fort Collins\, CO\, 80524\, United States
CATEGORIES:Spinning Classes
ATTACH;FMTTYPE=image/jpeg:https://www.lambspun.com/wp-content/uploads/2025/10/Lavander-sunset-scaled.jpg
ORGANIZER;CN="Lambspun":MAILTO:staff@thrivedevsite.com
END:VEVENT
BEGIN:VEVENT
DTSTART;TZID=America/Denver:20260909T150000
DTEND;TZID=America/Denver:20260909T160000
DTSTAMP:20260420T114039
CREATED:20260412T193548Z
LAST-MODIFIED:20260412T193717Z
UID:10010474-1788966000-1788969600@www.lambspun.com
SUMMARY:Fleece to Skein: Learn to Spin - July 1\, 8\, 15
DESCRIPTION:Take charge of your yarns as you design your very own textured handspun! Learn every step of the process\, from blending your choice of natural fibers to spinning and plying\, and customize your finished product for knitting\, weaving\, or crochet. Use of carders\, blending boards\, spindles\, spinning wheels and more are included with registration.
URL:https://www.lambspun.com/event/fleece-to-skein-learn-to-spin-1-8-15/2026-09-09/
LOCATION:Lambspun Fort Collins\, 1101 East Lincoln Avenue\, Fort Collins\, CO\, 80524\, United States
CATEGORIES:Spinning Classes
ATTACH;FMTTYPE=image/jpeg:https://www.lambspun.com/wp-content/uploads/2025/10/Lavander-sunset-scaled.jpg
ORGANIZER;CN="Lambspun":MAILTO:staff@thrivedevsite.com
END:VEVENT
BEGIN:VEVENT
DTSTART;TZID=America/Denver:20260911T110000
DTEND;TZID=America/Denver:20260911T120000
DTSTAMP:20260420T114039
CREATED:20260319T073249Z
LAST-MODIFIED:20260319T073445Z
UID:10010350-1789124400-1789128000@www.lambspun.com
SUMMARY:Granny Square Garden - May 1\, 8\, 15
DESCRIPTION:Start here\, grow anywhere! Have fun with a modern guide\, the Granny Square. Flowers Card Deck\, and assemble your creations into blankets\, garments and more!
URL:https://www.lambspun.com/event/granny-square-garden-may-1-8-15/2026-09-11/
LOCATION:Lambspun Fort Collins\, 1101 East Lincoln Avenue\, Fort Collins\, CO\, 80524\, United States
CATEGORIES:Crochet Classes
ATTACH;FMTTYPE=image/jpeg:https://www.lambspun.com/wp-content/uploads/2026/03/Granny-Squares--scaled.jpg
ORGANIZER;CN="Lambspun":MAILTO:staff@thrivedevsite.com
END:VEVENT
BEGIN:VEVENT
DTSTART;TZID=America/Denver:20260911T123000
DTEND;TZID=America/Denver:20260911T173000
DTSTAMP:20260420T114039
CREATED:20250830T155505Z
LAST-MODIFIED:20250830T155505Z
UID:10009639-1789129800-1789147800@www.lambspun.com
SUMMARY:Potluck Friday
DESCRIPTION:Come join the fun.  Bring something yummy to share. \nEnjoy good food\, organic Rishi teas\, and conversation. Spin\, weave\, crochet — all fiber arts\, all levels welcome! \nPotluck Fridays are free and open to everyone interested. Informal and relaxing!
URL:https://www.lambspun.com/event/potluck-friday-2/2026-09-11/
LOCATION:Lambspun Fort Collins\, 1101 East Lincoln Avenue\, Fort Collins\, CO\, 80524\, United States
CATEGORIES:Potluck
ATTACH;FMTTYPE=image/png:https://www.lambspun.com/wp-content/uploads/2025/01/pot-luck-e1737865732196.png
ORGANIZER;CN="Lambspun":MAILTO:staff@thrivedevsite.com
END:VEVENT
BEGIN:VEVENT
DTSTART;TZID=America/Denver:20260912T110000
DTEND;TZID=America/Denver:20260912T120000
DTSTAMP:20260420T114039
CREATED:20260412T194042Z
LAST-MODIFIED:20260412T194146Z
UID:10010528-1789210800-1789214400@www.lambspun.com
SUMMARY:Fleece to Skein: Learn to Spin - July 11\, 18\, 25
DESCRIPTION:Take charge of your yarns as you design your very own textured handspun! Learn every step of the process\, from blending your choice of natural fibers to spinning and plying\, and customize your finished product for knitting\, weaving\, or crochet. Use of carders\, blending boards\, spindles\, spinning wheels and more are included with registration.
URL:https://www.lambspun.com/event/fleece-to-skein-learn-to-spin-july-11-18-25/2026-09-12/
LOCATION:Lambspun Fort Collins\, 1101 East Lincoln Avenue\, Fort Collins\, CO\, 80524\, United States
CATEGORIES:Spinning Classes
ATTACH;FMTTYPE=image/jpeg:https://www.lambspun.com/wp-content/uploads/2025/10/Lavander-sunset-scaled.jpg
ORGANIZER;CN="Lambspun":MAILTO:staff@thrivedevsite.com
END:VEVENT
BEGIN:VEVENT
DTSTART;TZID=America/Denver:20260916T150000
DTEND;TZID=America/Denver:20260916T160000
DTSTAMP:20260420T114039
CREATED:20260412T193548Z
LAST-MODIFIED:20260412T193717Z
UID:10010475-1789570800-1789574400@www.lambspun.com
SUMMARY:Fleece to Skein: Learn to Spin - July 1\, 8\, 15
DESCRIPTION:Take charge of your yarns as you design your very own textured handspun! Learn every step of the process\, from blending your choice of natural fibers to spinning and plying\, and customize your finished product for knitting\, weaving\, or crochet. Use of carders\, blending boards\, spindles\, spinning wheels and more are included with registration.
URL:https://www.lambspun.com/event/fleece-to-skein-learn-to-spin-1-8-15/2026-09-16/
LOCATION:Lambspun Fort Collins\, 1101 East Lincoln Avenue\, Fort Collins\, CO\, 80524\, United States
CATEGORIES:Spinning Classes
ATTACH;FMTTYPE=image/jpeg:https://www.lambspun.com/wp-content/uploads/2025/10/Lavander-sunset-scaled.jpg
ORGANIZER;CN="Lambspun":MAILTO:staff@thrivedevsite.com
END:VEVENT
BEGIN:VEVENT
DTSTART;TZID=America/Denver:20260918T110000
DTEND;TZID=America/Denver:20260918T120000
DTSTAMP:20260420T114039
CREATED:20260319T073249Z
LAST-MODIFIED:20260319T073445Z
UID:10010351-1789729200-1789732800@www.lambspun.com
SUMMARY:Granny Square Garden - May 1\, 8\, 15
DESCRIPTION:Start here\, grow anywhere! Have fun with a modern guide\, the Granny Square. Flowers Card Deck\, and assemble your creations into blankets\, garments and more!
URL:https://www.lambspun.com/event/granny-square-garden-may-1-8-15/2026-09-18/
LOCATION:Lambspun Fort Collins\, 1101 East Lincoln Avenue\, Fort Collins\, CO\, 80524\, United States
CATEGORIES:Crochet Classes
ATTACH;FMTTYPE=image/jpeg:https://www.lambspun.com/wp-content/uploads/2026/03/Granny-Squares--scaled.jpg
ORGANIZER;CN="Lambspun":MAILTO:staff@thrivedevsite.com
END:VEVENT
BEGIN:VEVENT
DTSTART;TZID=America/Denver:20260918T123000
DTEND;TZID=America/Denver:20260918T173000
DTSTAMP:20260420T114039
CREATED:20250830T155505Z
LAST-MODIFIED:20250830T155505Z
UID:10009640-1789734600-1789752600@www.lambspun.com
SUMMARY:Potluck Friday
DESCRIPTION:Come join the fun.  Bring something yummy to share. \nEnjoy good food\, organic Rishi teas\, and conversation. Spin\, weave\, crochet — all fiber arts\, all levels welcome! \nPotluck Fridays are free and open to everyone interested. Informal and relaxing!
URL:https://www.lambspun.com/event/potluck-friday-2/2026-09-18/
LOCATION:Lambspun Fort Collins\, 1101 East Lincoln Avenue\, Fort Collins\, CO\, 80524\, United States
CATEGORIES:Potluck
ATTACH;FMTTYPE=image/png:https://www.lambspun.com/wp-content/uploads/2025/01/pot-luck-e1737865732196.png
ORGANIZER;CN="Lambspun":MAILTO:staff@thrivedevsite.com
END:VEVENT
BEGIN:VEVENT
DTSTART;TZID=America/Denver:20260919T110000
DTEND;TZID=America/Denver:20260919T120000
DTSTAMP:20260420T114039
CREATED:20260412T194042Z
LAST-MODIFIED:20260412T194146Z
UID:10010529-1789815600-1789819200@www.lambspun.com
SUMMARY:Fleece to Skein: Learn to Spin - July 11\, 18\, 25
DESCRIPTION:Take charge of your yarns as you design your very own textured handspun! Learn every step of the process\, from blending your choice of natural fibers to spinning and plying\, and customize your finished product for knitting\, weaving\, or crochet. Use of carders\, blending boards\, spindles\, spinning wheels and more are included with registration.
URL:https://www.lambspun.com/event/fleece-to-skein-learn-to-spin-july-11-18-25/2026-09-19/
LOCATION:Lambspun Fort Collins\, 1101 East Lincoln Avenue\, Fort Collins\, CO\, 80524\, United States
CATEGORIES:Spinning Classes
ATTACH;FMTTYPE=image/jpeg:https://www.lambspun.com/wp-content/uploads/2025/10/Lavander-sunset-scaled.jpg
ORGANIZER;CN="Lambspun":MAILTO:staff@thrivedevsite.com
END:VEVENT
BEGIN:VEVENT
DTSTART;TZID=America/Denver:20260923T150000
DTEND;TZID=America/Denver:20260923T160000
DTSTAMP:20260420T114039
CREATED:20260412T193548Z
LAST-MODIFIED:20260412T193717Z
UID:10010476-1790175600-1790179200@www.lambspun.com
SUMMARY:Fleece to Skein: Learn to Spin - July 1\, 8\, 15
DESCRIPTION:Take charge of your yarns as you design your very own textured handspun! Learn every step of the process\, from blending your choice of natural fibers to spinning and plying\, and customize your finished product for knitting\, weaving\, or crochet. Use of carders\, blending boards\, spindles\, spinning wheels and more are included with registration.
URL:https://www.lambspun.com/event/fleece-to-skein-learn-to-spin-1-8-15/2026-09-23/
LOCATION:Lambspun Fort Collins\, 1101 East Lincoln Avenue\, Fort Collins\, CO\, 80524\, United States
CATEGORIES:Spinning Classes
ATTACH;FMTTYPE=image/jpeg:https://www.lambspun.com/wp-content/uploads/2025/10/Lavander-sunset-scaled.jpg
ORGANIZER;CN="Lambspun":MAILTO:staff@thrivedevsite.com
END:VEVENT
BEGIN:VEVENT
DTSTART;TZID=America/Denver:20260925T110000
DTEND;TZID=America/Denver:20260925T120000
DTSTAMP:20260420T114039
CREATED:20260319T073249Z
LAST-MODIFIED:20260319T073445Z
UID:10010352-1790334000-1790337600@www.lambspun.com
SUMMARY:Granny Square Garden - May 1\, 8\, 15
DESCRIPTION:Start here\, grow anywhere! Have fun with a modern guide\, the Granny Square. Flowers Card Deck\, and assemble your creations into blankets\, garments and more!
URL:https://www.lambspun.com/event/granny-square-garden-may-1-8-15/2026-09-25/
LOCATION:Lambspun Fort Collins\, 1101 East Lincoln Avenue\, Fort Collins\, CO\, 80524\, United States
CATEGORIES:Crochet Classes
ATTACH;FMTTYPE=image/jpeg:https://www.lambspun.com/wp-content/uploads/2026/03/Granny-Squares--scaled.jpg
ORGANIZER;CN="Lambspun":MAILTO:staff@thrivedevsite.com
END:VEVENT
END:VCALENDAR